BEGIN:VCALENDAR
PRODID:NingEventWidget-v1
VERSION:2.0
METHOD:PUBLISH
BEGIN:VTIMEZONE
TZID:Europe/London
X-LIC-LOCATION:Europe/London
BEGIN:DAYLIGHT
TZOFFSETFROM:+0000
TZOFFSETTO:+0100
TZNAME:BST
DTSTART:19700329T010000
RRULE:FREQ=YEARLY;BYMONTH=3;BYDAY=-1SU
END:DAYLIGHT
BEGIN:STANDARD
TZOFFSETFROM:+0100
TZOFFSETTO:+0000
TZNAME:GMT
DTSTART:19701025T020000
RRULE:FREQ=YEARLY;BYMONTH=10;BYDAY=-1SU
END:STANDARD
END:VTIMEZONE
BEGIN:VEVENT
UID:4626108:Event:530903
DTSTAMP:20260419T200703Z
SUMMARY:Fabulous Networking Alton Coffee Time Online
DESCRIPTION:Fabulous Women Alton Coffee Time Online \r\n\r\n\r\n\r\nT
 he ever supportive Mandy Dineley looks forward to welcoming you to thi
 s meeting. \r\n\r\n\r\n\r\n\r\n\r\n\r\n\r\n\r\nWhether you are just st
 arting out or have been trading for years there’s a place for you in
  our community.\r\nYou’ll have the opportunity to promote your busin
 ess in 60 seconds to everyone on the call. You’ll make connections w
 ith other business owners and professionals and be challenged to think
  by our speaker.\r\nOur agenda is flexible to meet the needs of the at
 tendees so there may be some speed networking, a business hotseat or s
 ome small group discussions.\r\nWe promise you a relaxed but professio
 nal meeting. Everyone is welcome. We believe that people buy people an
 d that there are collaborative opportunities with our competitors so t
 here are no professional lock outs of Fabulous Networking.\r\nOur spea
 ker this month is Debbie Talalay, Theta Healer, Homeopath, NLP Master 
 Practitioner, and a Healer.\r\nVisitors may attend up to three meeting
 s free of charge after which become a member from £17 per month and g
 et all our online events free.\r\nBook your place and we’ll send you
  the link to the Zoom call the night before the meeting.\r\nWe look fo
 rward to seeing you.\r\n\r\n\r\n\r\n\r\nCOST: FREE for new Guests an
 d FN Members or £10 pay-as-you-go per meeting\r\nBOOKING: Members 
 please CLICK HERE to book, Visitors please email marketing@fabulous
 networking.co.uk  for more information, and we will send you the Zoom
  link so you can join us for the meeting\n\nFor more information visit
  https://networkinginsurrey.co.uk/events/fabulous-networking-alton-cof
 fee-time-online-8
DTSTART;TZID=Europe/London:20211215T100000
DTEND;TZID=Europe/London:20211215T120000
CATEGORIES:lunchtime, online, petersfield, netwinning, fabulous_women
LOCATION:Online only
WEBSITE:
URL:
CONTACT:
ORGANIZER:Mandy Dineley
ATTACH;FMTTYPE="image/jpeg":https://storage.ning.com/topology/rest/1.0
 /file/get/8275893275?profile=original
ATTENDEE;ROLE=REQ-PARTICIPANT;PARTSTAT=ACCEPTED;RSVP=TRUE;CN="Keith Gr
 over, NiS Founder":https://networkinginsurrey.co.uk/profile/KeithGrove
 r
END:VEVENT
END:VCALENDAR
