BEGIN:VCALENDAR
PRODID:NingEventWidget-v1
VERSION:2.0
METHOD:PUBLISH
BEGIN:VTIMEZONE
TZID:Europe/London
X-LIC-LOCATION:Europe/London
BEGIN:DAYLIGHT
TZOFFSETFROM:+0000
TZOFFSETTO:+0100
TZNAME:BST
DTSTART:19700329T010000
RRULE:FREQ=YEARLY;BYMONTH=3;BYDAY=-1SU
END:DAYLIGHT
BEGIN:STANDARD
TZOFFSETFROM:+0100
TZOFFSETTO:+0000
TZNAME:GMT
DTSTART:19701025T020000
RRULE:FREQ=YEARLY;BYMONTH=10;BYDAY=-1SU
END:STANDARD
END:VTIMEZONE
BEGIN:VEVENT
UID:4626108:Event:530604
DTSTAMP:20260424T162821Z
SUMMARY:Fabulous Networking Alton Coffee Time Online
DESCRIPTION:Fabulous Women Alton Coffee Time OnlineÂ \r\n\r\n\r\n\r\nT
 he ever supportive Mandy Dineley looks forward to welcoming you to thi
 s meeting.\r\n\r\n\r\n\r\n\r\n\r\n\r\n\r\n\r\nWhether you are just sta
 rting out or have been trading for years thereâ€™s a place for you in 
 our community.\r\nYouâ€™ll have the opportunity to promote your busine
 ss in 60 seconds to everyone on the call. Youâ€™ll make connections wi
 th other business owners and professionals and be challenged to think 
 by our speaker.\r\nOur agenda is flexible to meet the needs of the att
 endees so there may be some speed networking, a business hotseat or so
 me small group discussions.\r\nWe promise you a relaxed but profession
 al meeting. Everyone is welcome. We believe that people buy people and
  that there are collaborative opportunities with our competitors so th
 ere are no professional lock outs of Fabulous Networking.\r\nÂ Our spe
 aker this month is Anne Williams whose talk is entitled 'How much do y
 ou know about getting a good night's sleep?'Â \r\nVisitors may attend 
 up to three meetings free of charge after which become a member from Â
 £17 per month and get all our online events free.\r\nBook your place a
 nd weâ€™ll send you the link to the Zoom call the night before the mee
 ting.\r\nWe look forward to seeing you.\r\n\r\n\r\n\r\n\r\nCOST:Â FREE
 Â for new Guests and FN Members orÂ Â£10Â pay-as-you-go per meeting\r\
 nBOOKING:Â Members pleaseÂ CLICK HEREÂ to book, Visitors please emailÂ
  marketing@fabulousnetworking.co.ukÂ  for more information, and we wil
 l send you the Zoom link so you can join us for the meeting\n\nFor mor
 e information visit https://networkinginsurrey.co.uk/events/fabulous-n
 etworking-alton-coffee-time-online-7
DTSTART;TZID=Europe/London:20211117T100000
DTEND;TZID=Europe/London:20211117T120000
CATEGORIES:lunchtime, online, petersfield, netwinning, fabulous_women
LOCATION:Online only
WEBSITE:
URL:
CONTACT:
ORGANIZER:Mandy Dineley
ATTACH;FMTTYPE="image/jpeg":https://storage.ning.com/topology/rest/1.0
 /file/get/8275893275?profile=original
ATTENDEE;ROLE=REQ-PARTICIPANT;PARTSTAT=ACCEPTED;RSVP=TRUE;CN="Keith Gr
 over, NiS Founder":https://networkinginsurrey.co.uk/profile/KeithGrove
 r
END:VEVENT
END:VCALENDAR
