BEGIN:VCALENDAR
PRODID:NingEventWidget-v1
VERSION:2.0
METHOD:PUBLISH
BEGIN:VTIMEZONE
TZID:Europe/London
X-LIC-LOCATION:Europe/London
BEGIN:DAYLIGHT
TZOFFSETFROM:+0000
TZOFFSETTO:+0100
TZNAME:BST
DTSTART:19700329T010000
RRULE:FREQ=YEARLY;BYMONTH=3;BYDAY=-1SU
END:DAYLIGHT
BEGIN:STANDARD
TZOFFSETFROM:+0100
TZOFFSETTO:+0000
TZNAME:GMT
DTSTART:19701025T020000
RRULE:FREQ=YEARLY;BYMONTH=10;BYDAY=-1SU
END:STANDARD
END:VTIMEZONE
BEGIN:VEVENT
UID:4626108:Event:528465
DTSTAMP:20260424T195945Z
SUMMARY:Fabulous Networking Alton Coffee Time Online
DESCRIPTION:Fabulous Women Alton Coffee Time Online \r\nThe ever supp
 ortive Jill Aburrow looks forward to welcoming you to this meeting.\r\
 n\r\nIs the isolation of home working getting you down? Are you strugg
 ling to grow your business in these challenging times? Do you need som
 e help to get your mojo back?\r\nThese are just some of the reasons wh
 y people attend Fabulous Networking meetings. Whether you are just sta
 rting out or have been trading for years there’s a place for you in 
 our community.\r\nYou’ll have the opportunity to promote your busine
 ss in 60 seconds to everyone on the call. You’ll make connections wi
 th other business owners and professionals and be challenged to think 
 by our speaker.\r\nThis month our speaker is Financial Adviser, Mike B
 lack from Oakwood.\r\nOur agenda is flexible to meet the needs of the 
 attendees so there may be some speed networking, a business hotseat or
  some small group discussions.\r\nWe promise you a relaxed but profess
 ional meeting. Everyone is welcome. We believe that people buy people 
 and that there are collaborative opportunities with our competitors so
  there are no professional lock outs of Fabulous Networking.\r\nVisito
 rs may attend up to three meetings free of charge after which become a
  member from £17 per month and get all our online events free.\r\nBoo
 k your place and we’ll send you the link to the Zoom call the night 
 before the meeting.\r\nWe look forward to seeing you.\r\nCOST: FREE 
 for new Guests and FN Members or £10 pay-as-you-go per meeting\r\nB
 OOKING: Members please CLICK HERE to book, Visitors please email m
 arketing@fabulousnetworking.co.uk  for more information, and we will 
 send you the Zoom link so you can join us for the meeting\n\nFor more 
 information visit https://networkinginsurrey.co.uk/events/fabulous-net
 working-alton-coffee-time-online-5
DTSTART;TZID=Europe/London:20210818T100000
DTEND;TZID=Europe/London:20210818T120000
CATEGORIES:lunchtime, online, petersfield, netwinning, fabulous_women
LOCATION:Online only
WEBSITE:
URL:
CONTACT:
ORGANIZER:Jill Aburrow
ATTACH;FMTTYPE="image/jpeg":https://storage.ning.com/topology/rest/1.0
 /file/get/8275893275?profile=original
ATTENDEE;ROLE=REQ-PARTICIPANT;PARTSTAT=ACCEPTED;RSVP=TRUE;CN="Keith Gr
 over, NiS Founder":https://networkinginsurrey.co.uk/profile/KeithGrove
 r
END:VEVENT
END:VCALENDAR
