BEGIN:VCALENDAR
PRODID:NingEventWidget-v1
VERSION:2.0
METHOD:PUBLISH
BEGIN:VTIMEZONE
TZID:Europe/London
X-LIC-LOCATION:Europe/London
BEGIN:DAYLIGHT
TZOFFSETFROM:+0000
TZOFFSETTO:+0100
TZNAME:BST
DTSTART:19700329T010000
RRULE:FREQ=YEARLY;BYMONTH=3;BYDAY=-1SU
END:DAYLIGHT
BEGIN:STANDARD
TZOFFSETFROM:+0100
TZOFFSETTO:+0000
TZNAME:GMT
DTSTART:19701025T020000
RRULE:FREQ=YEARLY;BYMONTH=10;BYDAY=-1SU
END:STANDARD
END:VTIMEZONE
BEGIN:VEVENT
UID:4626108:Event:1262
DTSTAMP:20260425T174112Z
SUMMARY:EVENT CANCELLED - VOLCANIC ASH! Surrey Connections Evening, Ha
 slemere
DESCRIPTION:Business Scene Surrey Connections - EVENT CANCELLED\n\n***
 *************************************\nThe organisers apologise for th
 e cancellation of this event at short notice - organisers, host and ke
 y staff are stranded around the globe - a new date will be arranged fo
 r this event soon...\n\nFor more information visit https://networkingi
 nsurrey.co.uk/events/event-cancelled-volcanic-ash
DTSTART;TZID=Europe/London:20100422T180000
DTEND;TZID=Europe/London:20100422T200000
CATEGORIES:evening, haslemere, business_scene
LOCATION:Georgian House Hotel, Haslemere GU27 2JY
WEBSITE:http://www.business-scene.com/event_detail.php?e=12903
URL:http://www.business-scene.com/event_detail.php?e=12903
CONTACT:
ORGANIZER:Andrew Widgery
ATTACH;FMTTYPE="image/jpeg":http://storage.ning.com/topology/rest/1.0/
 file/get/2591379744?profile=original
END:VEVENT
END:VCALENDAR
