BEGIN:VCALENDAR
PRODID:NingEventWidget-v1
VERSION:2.0
METHOD:PUBLISH
BEGIN:VTIMEZONE
TZID:Europe/London
X-LIC-LOCATION:Europe/London
BEGIN:DAYLIGHT
TZOFFSETFROM:+0000
TZOFFSETTO:+0100
TZNAME:BST
DTSTART:19700329T010000
RRULE:FREQ=YEARLY;BYMONTH=3;BYDAY=-1SU
END:DAYLIGHT
BEGIN:STANDARD
TZOFFSETFROM:+0100
TZOFFSETTO:+0000
TZNAME:GMT
DTSTART:19701025T020000
RRULE:FREQ=YEARLY;BYMONTH=10;BYDAY=-1SU
END:STANDARD
END:VTIMEZONE
BEGIN:VEVENT
UID:4626108:Event:3570
DTSTAMP:20260425T215933Z
SUMMARY:Evening Networking in the Park, Kingston
DESCRIPTION:\n\nCome and enjoy the excellent atmosphere at Hampton Cou
 rt Palace Golf Club, a wonderful, contemporary and stylish venue set i
 n the heart of Kingston's Home Park, on Tuesday 24th August 2010 from 
 6.30pm to 9pm. Music, wine, canapes and fun - all guaranteed.\n\nThe a
 tmosphere at thebestof networking events is informal and relaxed - it 
 is an ideal opportunity to spread the word about your services and mak
 e new contacts in the local business community.\n\nYou will get to:\n\
 n* Connect with like-minded business people in a relaxed ambience\n* D
 iscover potential new business alliances\n* Source the best local supp
 liers\n* Raise the public profile of your business\n* Enjoy a complime
 ntary drink and light snacks / canapes\n* Share ideas and get inspired
 !\n\n\nWith live music courtesy of The Naked Turtle, this event is spo
 nsored by Richmond Adult Community College and jointly hosted by The B
 est of Richmond, The Best of Kingston and The Best of Wimbledon & Mert
 on.\n\nTicket prices\n\n* Business Members of thebestof - £10+vat\n* 
 Non-members - £25+vat\n\nBOOK NOW\n\nPlease note tickets for this eve
 nt are limited so early booking is strongly advised.\n\nFor more infor
 mation visit https://networkinginsurrey.co.uk/events/evening-networkin
 g-in-the-park
DTSTART;TZID=Europe/London:20100824T183000
DTEND;TZID=Europe/London:20100824T210000
CATEGORIES:networking, event
LOCATION:Hampton Court Palace Golf Club
WEBSITE:http://www.eventelephant.com/aneveningwiththebestofsummernetwo
 rkingspecial
URL:http://www.eventelephant.com/aneveningwiththebestofsummernetworkin
 gspecial
CONTACT:020 3002 4100
ORGANIZER;CN="Nick Taimitarha":https://networkinginsurrey.co.uk/profil
 e/NickTaimitarha
ATTACH;FMTTYPE="image/jpeg":http://storage.ning.com/topology/rest/1.0/
 file/get/2591382485?profile=original
ATTENDEE;ROLE=REQ-PARTICIPANT;PARTSTAT=ACCEPTED;RSVP=TRUE;CN="Keith Gr
 over, NiS Founder":https://networkinginsurrey.co.uk/profile/KeithGrove
 r
ATTENDEE;ROLE=REQ-PARTICIPANT;PARTSTAT=ACCEPTED;RSVP=TRUE;CN="Nick Tai
 mitarha":https://networkinginsurrey.co.uk/profile/NickTaimitarha
ATTENDEE;ROLE=REQ-PARTICIPANT;PARTSTAT=TENTATIVE;RSVP=TRUE;CN="Aernout
  Fabius":https://networkinginsurrey.co.uk/profile/AernoutFabius
END:VEVENT
END:VCALENDAR
