BEGIN:VCALENDAR
PRODID:NingEventWidget-v1
VERSION:2.0
METHOD:PUBLISH
BEGIN:VTIMEZONE
TZID:Europe/London
X-LIC-LOCATION:Europe/London
BEGIN:DAYLIGHT
TZOFFSETFROM:+0000
TZOFFSETTO:+0100
TZNAME:BST
DTSTART:19700329T010000
RRULE:FREQ=YEARLY;BYMONTH=3;BYDAY=-1SU
END:DAYLIGHT
BEGIN:STANDARD
TZOFFSETFROM:+0100
TZOFFSETTO:+0000
TZNAME:GMT
DTSTART:19701025T020000
RRULE:FREQ=YEARLY;BYMONTH=10;BYDAY=-1SU
END:STANDARD
END:VTIMEZONE
BEGIN:VEVENT
UID:4626108:Event:63186
DTSTAMP:20260420T035445Z
SUMMARY:Sangat - Mind Body Spirit Evening, Ewell
DESCRIPTION:Networking for Mind Body Spirit & Wellbeing Practitioners\
 n\nThe perfect, friendly, relaxed networking evening for existing and
  aspiring Mind Body Spirit & Wellbeing Practitioners where you can enj
 oy any of the following: \n* Relax, connect, socialise and have fun m
 aking friends * Share good practice and create collaborations * Person
 al development and growth * Learn more about how to start, grow and ru
 n a practice * Explore how to attract more clients * Find ways of volu
 nteering and making a difference * Have a voice and represent our comm
 unity * Have a say on how Sangat World should grow and serve us all\nT
 he evening will also include Member Briefings on starting, growing and
  running your own practice and subjects of interest to our community.\
 nEpsom Sangat Meetings are held every month. Your Sangat Facilitator
  for the evening is NiS Member Len Goss. The evening will also inclu
 de Member Briefings on starting, growing and running your own practice
  and subjects of interest to our community. We look forward to seeing 
 you there! \nCOST: £10 for Sangat Members (£15 non-Members) includ
 ing dinks and nibbles, paid at the door on arrival.\nBOOKING: Please
  CLICK HERE to join for free, secure your place and save £5 at the
  door.\nMAP ----------------------------------------------------------
 ------------- P.S. You need to join Sangat World (it's free) for the
  RSVP option to appear on the Event page. This enables you to registe
 r for the meeting and avoids paying the non member price if you just 
 turn up unregistered. Also helps us with refreshments!!\n\nFor more in
 formation visit https://networkinginsurrey.co.uk/events/epsom-sangat-m
 ind-body-spirit-practitioner-evening-ewell-1
DTSTART;TZID=Europe/London:20140430T190000
DTEND;TZID=Europe/London:20140430T210000
CATEGORIES:networking
LOCATION:Bourne Hall KT17 1UF
WEBSITE:http://www.epsom-ewell.gov.uk/EEBC/Leisure+and+culture/bourne+
 hall
URL:http://www.epsom-ewell.gov.uk/EEBC/Leisure+and+culture/bourne+hall
CONTACT:07984 132505
ORGANIZER;CN="Len Goss":https://networkinginsurrey.co.uk/profile/LenGo
 ss
ATTACH;FMTTYPE="image/jpeg":http://storage.ning.com/topology/rest/1.0/
 file/get/2591425250?profile=original
ATTENDEE;ROLE=REQ-PARTICIPANT;PARTSTAT=ACCEPTED;RSVP=TRUE;CN="Len Goss
 ":https://networkinginsurrey.co.uk/profile/LenGoss
END:VEVENT
END:VCALENDAR
