BEGIN:VCALENDAR
PRODID:NingEventWidget-v1
VERSION:2.0
METHOD:PUBLISH
BEGIN:VTIMEZONE
TZID:Europe/London
X-LIC-LOCATION:Europe/London
BEGIN:DAYLIGHT
TZOFFSETFROM:+0000
TZOFFSETTO:+0100
TZNAME:BST
DTSTART:19700329T010000
RRULE:FREQ=YEARLY;BYMONTH=3;BYDAY=-1SU
END:DAYLIGHT
BEGIN:STANDARD
TZOFFSETFROM:+0100
TZOFFSETTO:+0000
TZNAME:GMT
DTSTART:19701025T020000
RRULE:FREQ=YEARLY;BYMONTH=10;BYDAY=-1SU
END:STANDARD
END:VTIMEZONE
BEGIN:VEVENT
UID:4626108:Event:5399
DTSTAMP:20260424T103547Z
SUMMARY:Epsom & Ewell Business Mums Afternoon Xmas Fair, Ewell
DESCRIPTION:NCT Christmas Fair, Bourne Hall, Ewell Saturday 13th Nov 1
 pm - 4pm, come and meet some local mums in business and also buy some 
 great Christmas Presents\nCheck out our Facebook page\nor go to the NC
 T website for more info and to print out a pdf of the flyer for cut-pr
 ice entry\n\n\nFor more information visit https://networkinginsurrey.c
 o.uk/events/epsom-ewell-business-mums
DTSTART;TZID=Europe/London:20101113T130000
DTEND;TZID=Europe/London:20101113T160000
CATEGORIES:christmas_fair, ewell
LOCATION:The Assembly Rooms KT17 1UF
WEBSITE:http://www.facebook.com/pages/Epsom-and-Ewell-Business-Mums/14
 5680405453033
URL:http://www.facebook.com/pages/Epsom-and-Ewell-Business-Mums/145680
 405453033
CONTACT:
ORGANIZER:EEBM
ATTACH;FMTTYPE="image/jpeg":http://storage.ning.com/topology/rest/1.0/
 file/get/2591389358?profile=original
ATTENDEE;ROLE=REQ-PARTICIPANT;PARTSTAT=TENTATIVE;RSVP=TRUE;CN="Wendy A
 ger":https://networkinginsurrey.co.uk/profile/WendyAger
END:VEVENT
END:VCALENDAR
