BEGIN:VCALENDAR
PRODID:NingEventWidget-v1
VERSION:2.0
METHOD:PUBLISH
BEGIN:VTIMEZONE
TZID:Europe/London
X-LIC-LOCATION:Europe/London
BEGIN:DAYLIGHT
TZOFFSETFROM:+0000
TZOFFSETTO:+0100
TZNAME:BST
DTSTART:19700329T010000
RRULE:FREQ=YEARLY;BYMONTH=3;BYDAY=-1SU
END:DAYLIGHT
BEGIN:STANDARD
TZOFFSETFROM:+0100
TZOFFSETTO:+0000
TZNAME:GMT
DTSTART:19701025T020000
RRULE:FREQ=YEARLY;BYMONTH=10;BYDAY=-1SU
END:STANDARD
END:VTIMEZONE
BEGIN:VEVENT
UID:4626108:Event:102815
DTSTAMP:20260424T103429Z
SUMMARY:Epsom Business over Breakfast
DESCRIPTION:BoB Club at Brewers Fayre, Haywain, Epsom\r\n\r\nOur fortn
 ightly meetings provide the platform to network in a professionally st
 ructured environment that is relaxed and free of undue pressure.\r\nEa
 ch meeting, every member is given an opportunity to do a short busines
 s overview to the group and one member is given 10 minutes to carry ou
 t a more comprehensive “Showcase” presentation about their busines
 s.\r\nSecuring your exclusive place at BoB Clubs means you have a bett
 er chance of gaining quality referrals as you have members within the 
 club promoting and recommending your products and services by word-of-
 mouth.\r\nBeing a member of BoB Clubs helps you find new customers eas
 ier and quicker than your competition.\r\nAnother benefit is you have 
 the opportunity to improve your presentation and communication skills 
 as well as boosting your confidence.\r\nFor more details www.bobclubs
 .com/Club/Epsom\r\nCOST: £12 meeting fee includes breakfast and refre
 shments\r\nBOOKING: Please CLICK HERE  to reserve your place online a
 t or call Ian on 07702 783233\r\nMAP\n\nFor more information visit htt
 ps://networkinginsurrey.co.uk/events/epsom-business-over-breakfast-3
DTSTART;TZID=Europe/London:20190221T063000
DTEND;TZID=Europe/London:20190221T084500
CATEGORIES:bob, clubs, breakfast, networking
LOCATION:Brewers Fayre Haywain - Epsom, 2 And 4 St Margarets Drive, Of
 f Dorking Rd, Epsom KT18 7LB
WEBSITE:https://www.bobclubs.com/Club/Epsom
URL:https://www.bobclubs.com/Club/Epsom
CONTACT:07702 783233
ORGANIZER;CN="Ian Morgan":https://networkinginsurrey.co.uk/profile/Ian
 Morgan
ATTACH;FMTTYPE="image/jpeg":https://storage.ning.com/topology/rest/1.0
 /file/get/623361261?profile=original
ATTENDEE;ROLE=REQ-PARTICIPANT;PARTSTAT=ACCEPTED;RSVP=TRUE;CN="Ian Morg
 an":https://networkinginsurrey.co.uk/profile/IanMorgan
END:VEVENT
END:VCALENDAR
