BEGIN:VCALENDAR
PRODID:NingEventWidget-v1
VERSION:2.0
METHOD:PUBLISH
BEGIN:VTIMEZONE
TZID:Europe/London
X-LIC-LOCATION:Europe/London
BEGIN:DAYLIGHT
TZOFFSETFROM:+0000
TZOFFSETTO:+0100
TZNAME:BST
DTSTART:19700329T010000
RRULE:FREQ=YEARLY;BYMONTH=3;BYDAY=-1SU
END:DAYLIGHT
BEGIN:STANDARD
TZOFFSETFROM:+0100
TZOFFSETTO:+0000
TZNAME:GMT
DTSTART:19701025T020000
RRULE:FREQ=YEARLY;BYMONTH=10;BYDAY=-1SU
END:STANDARD
END:VTIMEZONE
BEGIN:VEVENT
UID:4626108:Event:540169
DTSTAMP:20260421T231233Z
SUMMARY:Epsom Business Club Breakfast Live!
DESCRIPTION:Epsom Business Club Breakfast Networking at The Haywain\r\
 n\r\nOur speaker this month is Derek Williamson from David Howard Char
 tered Accountants\r\nRegularly reviewing your finances is important, e
 specially given it can be the key in keeping your plans for financial 
 freedom on track.\r\n\r\nA new year is always a good time to review yo
 ur finances. As well as giving you the opportunity to look back, the e
 nd of one year and the beginning of the next prompts a chance to take 
 stock and plan which goals are most important to you. It’s also poss
 ible that your circumstances have shifted, and you may need to adjust 
 your plans accordingly. Also many business people fail to write wills 
 or update them, so die intestate; which created major problems for the
 ir families and business partners.\r\nIn his talk Derek will help you 
 to understand your tax obligations and recognise the impact of the lat
 est tax changes.\r\nCOST: FREE (but booking is essential please).Break
 fasts can be bought at the venue on the day, £9.50 for a cooked break
 fast or £7.50 for continental\r\nBOOKING: Please CLICK HERE to book y
 our free place\r\nMAP\r\n---------------------------------------------
 ---------------------\r\nAbout this event \r\nJoin us for breakfast a
 t the Haywain, Brewers Fayre, to enjoy a face-to-face meeting and plen
 ty of relaxed networking on the third Thursday of every month from 7.3
 0 – 9.00am. Don’t forget your business cards for the opportunity t
 o tell us about your business.\n\nFor more information visit https://n
 etworkinginsurrey.co.uk/events/epsom-business-club-networking
DTSTART;TZID=Europe/London:20240118T073000
DTEND;TZID=Europe/London:20240118T093000
CATEGORIES:business, networking
LOCATION:Haywain Brewers Fayre
WEBSITE:https://maps.app.goo.gl/W8y5oa7n3uFzB7FS8
URL:https://maps.app.goo.gl/W8y5oa7n3uFzB7FS8
CONTACT:07789 035553
ORGANIZER;CN="Richard Excell":https://networkinginsurrey.co.uk/profile
 /RichardExcell
ATTACH;FMTTYPE="image/jpeg":https://storage.ning.com/topology/rest/1.0
 /file/get/12331809899?profile=original
ATTENDEE;ROLE=REQ-PARTICIPANT;PARTSTAT=ACCEPTED;RSVP=TRUE;CN="Richard 
 Excell":https://networkinginsurrey.co.uk/profile/RichardExcell
END:VEVENT
END:VCALENDAR
