BEGIN:VCALENDAR
PRODID:NingEventWidget-v1
VERSION:2.0
METHOD:PUBLISH
BEGIN:VTIMEZONE
TZID:Europe/London
X-LIC-LOCATION:Europe/London
BEGIN:DAYLIGHT
TZOFFSETFROM:+0000
TZOFFSETTO:+0100
TZNAME:BST
DTSTART:19700329T010000
RRULE:FREQ=YEARLY;BYMONTH=3;BYDAY=-1SU
END:DAYLIGHT
BEGIN:STANDARD
TZOFFSETFROM:+0100
TZOFFSETTO:+0000
TZNAME:GMT
DTSTART:19701025T020000
RRULE:FREQ=YEARLY;BYMONTH=10;BYDAY=-1SU
END:STANDARD
END:VTIMEZONE
BEGIN:VEVENT
UID:4626108:Event:531813
DTSTAMP:20260419T175418Z
SUMMARY:Epsom Business Club LIVE! Breakfast, Epsom
DESCRIPTION:Epsom Business Club at The Haywain\r\nDo you own or manage
  a business in the Epsom & Ewell area or the neighbouring districts? J
 oin us for a full English breakfast and plenty of relaxed networking.\
 r\nOur goal is simple – to bring together like-minded business peopl
 e to meet new people, develop connections and most importantly, do bus
 iness.\r\nEpsom Business Club networking is open all business owners, 
 managers or other professionals that are looking to grow their network
  in the local area across the South East and into South London.\r\nJoi
 n us at the Haywain, Brewers Fayre, for a face-to-face meeting on Thur
 s 17 February from 7.30 – 930am. Don’t forget your business cards 
 for the opportunity to tell us about your business.\r\nVenue: Haywain,
  Brewers Fayre, 2 - 4 St Margarets Drive, Off Dorking Road, Epsom KT18
  7LB\r\n\r\n\r\n\r\n\r\nCOST: FREE (Breakfasts can be bought at the v
 enue on the day, £9.50 for a cooked breakfast or £7.50 for continent
 al)\r\nBOOKING: Please CLICK HERE to book your free place\r\nMAP\r\n\r
 \n\r\n\r\n\n\nFor more information visit https://networkinginsurrey.co
 .uk/events/epsom-business-club-7
DTSTART;TZID=Europe/London:20220217T073000
DTEND;TZID=Europe/London:20220217T093000
CATEGORIES:business, networking
LOCATION:The Haywain KT18 7LB
WEBSITE:https://www.eventbrite.co.uk/e/epsom-business-club-networking-
 breakfast-tickets-249273743477
URL:https://www.eventbrite.co.uk/e/epsom-business-club-networking-brea
 kfast-tickets-249273743477
CONTACT:07789035553
ORGANIZER;CN="Richard Excell":https://networkinginsurrey.co.uk/profile
 /RichardExcell
ATTACH;FMTTYPE="image/jpeg":https://storage.ning.com/topology/rest/1.0
 /file/get/10038166262?profile=original
ATTENDEE;ROLE=REQ-PARTICIPANT;PARTSTAT=ACCEPTED;RSVP=TRUE;CN="Richard 
 Excell":https://networkinginsurrey.co.uk/profile/RichardExcell
END:VEVENT
END:VCALENDAR
