BEGIN:VCALENDAR
PRODID:NingEventWidget-v1
VERSION:2.0
METHOD:PUBLISH
BEGIN:VTIMEZONE
TZID:Europe/London
X-LIC-LOCATION:Europe/London
BEGIN:DAYLIGHT
TZOFFSETFROM:+0000
TZOFFSETTO:+0100
TZNAME:BST
DTSTART:19700329T010000
RRULE:FREQ=YEARLY;BYMONTH=3;BYDAY=-1SU
END:DAYLIGHT
BEGIN:STANDARD
TZOFFSETFROM:+0100
TZOFFSETTO:+0000
TZNAME:GMT
DTSTART:19701025T020000
RRULE:FREQ=YEARLY;BYMONTH=10;BYDAY=-1SU
END:STANDARD
END:VTIMEZONE
BEGIN:VEVENT
UID:4626108:Event:529902
DTSTAMP:20260424T162524Z
SUMMARY:Epsom Business Club Breakfast Live! Epsom
DESCRIPTION:Epsom Business Club Breakfast Time Live!\r\n\r\nDo you own
  or manage a business in the Epsom & Ewell area or the neighbouring di
 stricts? Join us for breakfast and plenty of relaxed networking.\r\nOu
 r goal is simple – to bring together like-minded business people to 
 meet new people, develop connections and most importantly, do business
 .\r\nEpsom Business Club networking is open all business owners, manag
 ers or other professionals that are looking to grow their network in t
 he local area across the South East and into South London.\r\nJoin us 
 at the Haywain, Brewers Fayre, for a face-to-face meeting on Thurs 18 
 November from 7.30 - 9.00am. Don't forget your business cards for the 
 opportunity to tell us about your business.\r\nBreakfasts can be bough
 t at the venue on the day, £9.50 for a cooked breakfast or £7.50 for
  continental.\r\nVenue: Haywain, Brewers Fayre, 2 - 4 St Margarets Dri
 ve, Off Dorking Road, Epsom KT18 7LB\r\n\r\n\r\n\r\n\r\nCOST: FREE (B
 reakfasts can be bought at the venue on the day, £9.50 for a cooked b
 reakfast or £7.50 for continental) \r\nBOOKING: Please BOOK YOUR PLAC
 E here\r\nMAP\r\n\r\n\r\n\r\n\n\nFor more information visit https://ne
 tworkinginsurrey.co.uk/events/epsom-business-club-6
DTSTART;TZID=Europe/London:20211118T073000
DTEND;TZID=Europe/London:20211118T090000
CATEGORIES:business, networking
LOCATION:The Haywain KT18 7LB
WEBSITE:https://www.eventbrite.co.uk/e/epsom-business-club-registratio
 n-147653099395
URL:https://www.eventbrite.co.uk/e/epsom-business-club-registration-14
 7653099395
CONTACT:07789035553
ORGANIZER;CN="Richard Excell":https://networkinginsurrey.co.uk/profile
 /RichardExcell
ATTACH;FMTTYPE="image/jpeg":https://storage.ning.com/topology/rest/1.0
 /file/get/9735502496?profile=original
ATTENDEE;ROLE=REQ-PARTICIPANT;PARTSTAT=ACCEPTED;RSVP=TRUE;CN="Richard 
 Excell":https://networkinginsurrey.co.uk/profile/RichardExcell
END:VEVENT
END:VCALENDAR
