BEGIN:VCALENDAR
PRODID:NingEventWidget-v1
VERSION:2.0
METHOD:PUBLISH
BEGIN:VTIMEZONE
TZID:Europe/London
X-LIC-LOCATION:Europe/London
BEGIN:DAYLIGHT
TZOFFSETFROM:+0000
TZOFFSETTO:+0100
TZNAME:BST
DTSTART:19700329T010000
RRULE:FREQ=YEARLY;BYMONTH=3;BYDAY=-1SU
END:DAYLIGHT
BEGIN:STANDARD
TZOFFSETFROM:+0100
TZOFFSETTO:+0000
TZNAME:GMT
DTSTART:19701025T020000
RRULE:FREQ=YEARLY;BYMONTH=10;BYDAY=-1SU
END:STANDARD
END:VTIMEZONE
BEGIN:VEVENT
UID:4626108:Event:527528
DTSTAMP:20260424T232135Z
SUMMARY:FREE Epsom Business Club Breakfast Time Online
DESCRIPTION:Epsom Business Club Breakfast Time Online\r\n\r\nDo you ow
 n or manage a business in the Epsom & Ewell area or the neighbouring d
 istricts?\r\nOur goal is simple – to bring together like-minded busi
 ness people to meet new people, develop connections and most important
 ly, do business.\r\nEpsom Business Club networking is open all busines
 s owners, managers or other professionals that are looking to grow the
 ir network in the local area across the South East and into South Lond
 on.\r\nInformal meetings are held within the Epsom area and online. Wh
 y not come along and meet other professionals?\r\nWhat ever business y
 ou are in, you will be made very welcome.\r\n\r\n\r\n\r\nWe meet on th
 e third Thursday of every month, online via Zoom.\r\nEveryone is given
  the chance to tell us about their business and what they do, plus we 
 have a featured speaker from the members talking on a topic or subject
  they are expert in.\r\nRemember, it’s free to join while we are onl
 ine, so why not give it a try?\r\nCOST: FREE while online\r\nBOOKING: 
 Please BOOK YOUR PLACE here\r\n\r\n\r\n\n\nFor more information visit 
 https://networkinginsurrey.co.uk/events/epsom-business-club-4
DTSTART;TZID=Europe/London:20210819T083000
DTEND;TZID=Europe/London:20210819T213000
CATEGORIES:business, networking
LOCATION:Epsom / Online
WEBSITE:https://epsombusiness.club
URL:https://epsombusiness.club
CONTACT:
ORGANIZER;CN="Richard Excell":https://networkinginsurrey.co.uk/profile
 /RichardExcell
ATTACH;FMTTYPE="image/jpeg":https://storage.ning.com/topology/rest/1.0
 /file/get/8976241481?profile=original
ATTENDEE;ROLE=REQ-PARTICIPANT;PARTSTAT=ACCEPTED;RSVP=TRUE;CN="Richard 
 Excell":https://networkinginsurrey.co.uk/profile/RichardExcell
END:VEVENT
END:VCALENDAR
