BEGIN:VCALENDAR
PRODID:NingEventWidget-v1
VERSION:2.0
METHOD:PUBLISH
BEGIN:VTIMEZONE
TZID:Europe/London
X-LIC-LOCATION:Europe/London
BEGIN:DAYLIGHT
TZOFFSETFROM:+0000
TZOFFSETTO:+0100
TZNAME:BST
DTSTART:19700329T010000
RRULE:FREQ=YEARLY;BYMONTH=3;BYDAY=-1SU
END:DAYLIGHT
BEGIN:STANDARD
TZOFFSETFROM:+0100
TZOFFSETTO:+0000
TZNAME:GMT
DTSTART:19701025T020000
RRULE:FREQ=YEARLY;BYMONTH=10;BYDAY=-1SU
END:STANDARD
END:VTIMEZONE
BEGIN:VEVENT
UID:4626108:Event:527319
DTSTAMP:20260422T193108Z
SUMMARY:Epsom Business Club
DESCRIPTION:Do you own or manage a business in the Epsom & Ewell area 
 or the neighbouring districts?\nOur goal is simple – to bring togeth
 er like-minded business people to meet new people, develop connections
  and most importantly, do business.\nEpsom Business Club networking is
  open all business owners, managers or other professionals that are lo
 oking to grow their network in the local area across the South East an
 d into South London.\nInformal meetings are held within the Epsom area
  and online. Why not come along and meet other professionals?\nWhat ev
 er business you are in, you will be made very welcome.\n\nWe meet on t
 he third Thursday of every month, online via Zoom.\nEveryone is given 
 the chance to tell us about their business and what they do, plus we h
 ave a featured speaker from the members talking on a topic or subject 
 they are expert in.\nRemember, it’s free to join while we are online
 , so why not give it a try?\nCOST: FREE while online\nBOOKING: Please 
 BOOK YOUR PLACE here\n\n\n\n\nFor more information visit https://netwo
 rkinginsurrey.co.uk/events/epsom-business-club-2
DTSTART;TZID=Europe/London:20210617T083000
DTEND;TZID=Europe/London:20210617T213000
CATEGORIES:business, networking
LOCATION:Epsom / Online
WEBSITE:https://epsombusiness.club
URL:https://epsombusiness.club
CONTACT:
ORGANIZER;CN="Richard Excell":https://networkinginsurrey.co.uk/profile
 /RichardExcell
ATTACH;FMTTYPE="image/jpeg":https://storage.ning.com/topology/rest/1.0
 /file/get/8976241481?profile=original
ATTENDEE;ROLE=REQ-PARTICIPANT;PARTSTAT=ACCEPTED;RSVP=TRUE;CN="Richard 
 Excell":https://networkinginsurrey.co.uk/profile/RichardExcell
END:VEVENT
END:VCALENDAR
