BEGIN:VCALENDAR
PRODID:NingEventWidget-v1
VERSION:2.0
METHOD:PUBLISH
BEGIN:VTIMEZONE
TZID:Europe/London
X-LIC-LOCATION:Europe/London
BEGIN:DAYLIGHT
TZOFFSETFROM:+0000
TZOFFSETTO:+0100
TZNAME:BST
DTSTART:19700329T010000
RRULE:FREQ=YEARLY;BYMONTH=3;BYDAY=-1SU
END:DAYLIGHT
BEGIN:STANDARD
TZOFFSETFROM:+0100
TZOFFSETTO:+0000
TZNAME:GMT
DTSTART:19701025T020000
RRULE:FREQ=YEARLY;BYMONTH=10;BYDAY=-1SU
END:STANDARD
END:VTIMEZONE
BEGIN:VEVENT
UID:4626108:Event:539294
DTSTAMP:20260423T193855Z
SUMMARY:Epsom Business Club Breakfast Live!
DESCRIPTION:Epsom Business Club Live! Breakfast at The Haywain\r\nNove
 mber Breakfast Networking\r\nEmploying people – what you need to kno
 w and the pitfalls to avoid\r\nOur speaker this month is Jackie Adams 
 from Jackie Adams Consulting.\r\nSome of you may employ people, some o
 f you won’t and maybe you never plan to employ anyone, but you will 
 definitely know business owners who do and you will know people who ar
 e employed. So this is for all of you!\r\nIn 10 minutes we will only g
 et to look at the tip of the iceburg as the topic is massive.\r\nCOST:
  FREE (but booking is essential please).Breakfasts can be bought at th
 e venue on the day, £9.50 for a cooked breakfast or £7.50 for contin
 ental\r\nBOOKING: Please CLICK HERE to book your free place\r\nMAP\r\n
 ------------------------------------------------------------------\r\n
 About this event \r\nJoin us for breakfast at the Haywain, Brewers Fa
 yre, to enjoy a face-to-face meeting and plenty of relaxed networking 
 on the third Thursday of every month from 7.30 – 9.00am. Don’t for
 get your business cards for the opportunity to tell us about your busi
 ness.\r\n\r\n\n\nFor more information visit https://networkinginsurrey
 .co.uk/events/epsom-business-club-10
DTSTART;TZID=Europe/London:20231116T073000
DTEND;TZID=Europe/London:20231116T093000
CATEGORIES:business, networking
LOCATION:The Haywain
WEBSITE:https://www.eventbrite.co.uk/e/ebc-november-networking-breakfa
 st-tickets-700168461717
URL:https://www.eventbrite.co.uk/e/ebc-november-networking-breakfast-t
 ickets-700168461717
CONTACT:07789035553
ORGANIZER;CN="Richard Excell":https://networkinginsurrey.co.uk/profile
 /RichardExcell
ATTACH;FMTTYPE="image/jpeg":https://storage.ning.com/topology/rest/1.0
 /file/get/12238180268?profile=original
ATTENDEE;ROLE=REQ-PARTICIPANT;PARTSTAT=ACCEPTED;RSVP=TRUE;CN="Richard 
 Excell":https://networkinginsurrey.co.uk/profile/RichardExcell
END:VEVENT
END:VCALENDAR
