BEGIN:VCALENDAR
PRODID:NingEventWidget-v1
VERSION:2.0
METHOD:PUBLISH
BEGIN:VTIMEZONE
TZID:Europe/London
X-LIC-LOCATION:Europe/London
BEGIN:DAYLIGHT
TZOFFSETFROM:+0000
TZOFFSETTO:+0100
TZNAME:BST
DTSTART:19700329T010000
RRULE:FREQ=YEARLY;BYMONTH=3;BYDAY=-1SU
END:DAYLIGHT
BEGIN:STANDARD
TZOFFSETFROM:+0100
TZOFFSETTO:+0000
TZNAME:GMT
DTSTART:19701025T020000
RRULE:FREQ=YEARLY;BYMONTH=10;BYDAY=-1SU
END:STANDARD
END:VTIMEZONE
BEGIN:VEVENT
UID:4626108:Event:540885
DTSTAMP:20260424T144302Z
SUMMARY:Entrepreneurs Circle South West London Local Evening Live! Kin
 gston
DESCRIPTION:\nPLEASE NOTE CHANGE OF VENUE and TIME\nDue to refurbs at 
 New Malden Golf Club we move our venue to Coombe Wood Golf Club until 
 later in the year\n\nJoin your fellow Kingston business owners for o
 ur Entrepreneurs Circle South West London Local Meeting at Coombe Wood
  Golf Club George Road Kingston-upon-Thames KT2 7NS\n 3pm Start\nwit
 h informal networking in the bar afterwards. \nHello there\nWelcome t
 o the new South West London Entrepreneurs Circle Local Meeting! Kingst
 on has merged with Wimbledon and Croydon,  becoming bigger and better
  than ever!\n\nJoin your fellow business owners for our Entrepreneurs 
 Circle Local Meeting on Tuesday 12th March 3pm  at Coombe Wood Golf C
 lub\nThe Entrepreneurs Circle Local Meeting is a new type of Business 
 Growth and Networking Meeting that's guaranteed to help your business 
 grow... \nOur meetings always have a featured content session where w
 e share a practical marketing tactic or strategy that you can use in y
 our business to get more customers and make more sales! \nThose who h
 ave been before will know there's a different helpful topic every mont
 h\nHopefully we'll see you there...any questions, just let us know!\nF
 or more information, please Click Here\nCOST: FREE (with bursary)\nB
 OOKING: You can join our meetings FREE by signing up for the 3 month b
 ursary using this link: Book your place here: Sign me up for FREE net
 working!\nMAP\n\n\n\nFor more information visit https://networkinginsu
 rrey.co.uk/events/entrepreneurs-circle-south-west-london-local-evening
 -live-7
DTSTART;TZID=Europe/London:20240312T150000
DTEND;TZID=Europe/London:20240312T170000
CATEGORIES:networking
LOCATION:Coombe Wood Golf Club
WEBSITE:https://www.coombewoodgolf.com/
URL:https://www.coombewoodgolf.com/
CONTACT:07712076060
ORGANIZER;CN="Nigel Stickland":https://networkinginsurrey.co.uk/profil
 e/NigelStickland
ATTACH;FMTTYPE="image/jpeg":https://storage.ning.com/topology/rest/1.0
 /file/get/10750114474?profile=original
ATTENDEE;ROLE=REQ-PARTICIPANT;PARTSTAT=ACCEPTED;RSVP=TRUE;CN="Nigel St
 ickland":https://networkinginsurrey.co.uk/profile/NigelStickland
END:VEVENT
END:VCALENDAR
