BEGIN:VCALENDAR
PRODID:NingEventWidget-v1
VERSION:2.0
METHOD:PUBLISH
BEGIN:VTIMEZONE
TZID:Europe/London
X-LIC-LOCATION:Europe/London
BEGIN:DAYLIGHT
TZOFFSETFROM:+0000
TZOFFSETTO:+0100
TZNAME:BST
DTSTART:19700329T010000
RRULE:FREQ=YEARLY;BYMONTH=3;BYDAY=-1SU
END:DAYLIGHT
BEGIN:STANDARD
TZOFFSETFROM:+0100
TZOFFSETTO:+0000
TZNAME:GMT
DTSTART:19701025T020000
RRULE:FREQ=YEARLY;BYMONTH=10;BYDAY=-1SU
END:STANDARD
END:VTIMEZONE
BEGIN:VEVENT
UID:4626108:Event:533801
DTSTAMP:20260425T043952Z
SUMMARY:Entrepreneurs Circle South West London Local Evening Live! in 
 Kingston
DESCRIPTION:\r\nJoin your fellow Kingston business owners for our En
 trepreneurs Circle South West London Local Meeting at New Malden Golf
  Club, Traps Lane KT3 4RS\r\nFrom 5:30 (starts at 6pm) until 8pm, wit
 h informal networking in the bar afterwards. \r\n\r\n\r\n\r\n\r\nHell
 o there,\r\n \r\nWelcome to the new South West London Entrepreneurs C
 ircle Local Meeting! Kingston has merged with Wimbledon and Croydon, 
  becoming bigger and better than ever!\r\n \r\nJoin your fellow busin
 ess owners for our Entrepreneurs Circle Local Meeting on Tuesday 9th A
 ugust at 5:30pm for a 6pm start at Malden Golf Club, Traps Lane KT3 
 4RS.\r\n\r\n\r\n\r\n\r\n \r\n\r\n\r\n\r\n\r\nThe Entrepreneurs Circle
  Local Meeting is a new type of Business Growth and Networking Meeting
  that's guaranteed to help your business grow... \r\nOur meetings alw
 ays have a featured content session where we share a practical marketi
 ng tactic or strategy that you can use in your business to get more cu
 stomers and make more sales! \r\nWe're really excited about August's 
 Business Growth Meeting! Those who have been before will know there's 
 a different helpful topic every month and this month's session is how 
 to... \r\n'BUILD YOUR PERFECT DREAM LIST' \r\nIt's going to be a ver
 y valuable session helping you make the selling easier, have more conv
 ersations, get more sales and grow quicker. A dream list is about the 
 quality of people on it, size does NOT matter!\r\n\r\n\r\n\r\n\r\n\r\n
 Hopefully we'll see you there...any questions, just let us know!\r\nFo
 r more information, please Click Here\r\nCOST: FREE (with bursary)\r
 \nBOOKING: You can join our meetings FREE by signing up for the 3 mont
 h bursary using this link: Book your place here: Sign me up for FREE n
 etworking!\r\nMAP\r\n\r\n\n\nFor more information visit https://networ
 kinginsurrey.co.uk/events/entrepreneurs-circle-local-evening-live-king
 ston-5
DTSTART;TZID=Europe/London:20220809T173000
DTEND;TZID=Europe/London:20220809T200000
CATEGORIES:networking
LOCATION:New Malden Golf Club
WEBSITE:https://maldengolfclub.com/
URL:https://maldengolfclub.com/
CONTACT:07712076060
ORGANIZER;CN="Nigel Stickland":https://networkinginsurrey.co.uk/profil
 e/NigelStickland
ATTACH;FMTTYPE="image/jpeg":https://storage.ning.com/topology/rest/1.0
 /file/get/10750114474?profile=original
ATTENDEE;ROLE=REQ-PARTICIPANT;PARTSTAT=ACCEPTED;RSVP=TRUE;CN="Nigel St
 ickland":https://networkinginsurrey.co.uk/profile/NigelStickland
END:VEVENT
END:VCALENDAR
