BEGIN:VCALENDAR
PRODID:NingEventWidget-v1
VERSION:2.0
METHOD:PUBLISH
BEGIN:VTIMEZONE
TZID:Europe/London
X-LIC-LOCATION:Europe/London
BEGIN:DAYLIGHT
TZOFFSETFROM:+0000
TZOFFSETTO:+0100
TZNAME:BST
DTSTART:19700329T010000
RRULE:FREQ=YEARLY;BYMONTH=3;BYDAY=-1SU
END:DAYLIGHT
BEGIN:STANDARD
TZOFFSETFROM:+0100
TZOFFSETTO:+0000
TZNAME:GMT
DTSTART:19701025T020000
RRULE:FREQ=YEARLY;BYMONTH=10;BYDAY=-1SU
END:STANDARD
END:VTIMEZONE
BEGIN:VEVENT
UID:4626108:Event:48768
DTSTAMP:20260421T093815Z
SUMMARY:FREE Entrepreneur's Circle Evening, Farnborough
DESCRIPTION:Planning is key... but don't be airy-fairy!\n\nBuilding a 
 crystal clear plan of what you want to achieve in 2013 and how you are
  going to do it. Planning is key for everything in business and the en
 d of a year is an ideal time to get really clear on what you want to a
 chieve in the next year.\nBut it can't just be airy fairy goals - you 
 need a precisely clear idea of what you are going to achieve, how you 
 are going to get there, what steps are needed and by when... and that 
 is what this session is all about.\nNige will help you get really clea
 r about what you want to achieve and help you build a step by step pla
 n of what you need to do to hit the targets in the right order and at 
 the right time - the perfect way to end the year.\n18:30 for drinks, M
 eeting will start at 19:00,\nCOST: Free to Members of the Entrepreneur
 s Circle. Non-Members can attend one trial meeting free of charge\nBOO
 KING: Please CLICK HERE for details and to register - and if you're 
 a first-time Visitor we'll contact you to confirm your place\nMAP\n \
 n\nFor more information visit https://networkinginsurrey.co.uk/events/
 entrepreneur-s-circle-your-business-in-detail-in-2013-farnborough
DTSTART;TZID=Europe/London:20121108T183000
DTEND;TZID=Europe/London:20121108T210000
CATEGORIES:evening, farnborough, free
LOCATION:Village Hotel  GU14 7BF
WEBSITE:http://businessgrowthadvisor.co.uk/reading-and-camberley/event
 -list/event-details/?eventid=your_business_detail
URL:http://businessgrowthadvisor.co.uk/reading-and-camberley/event-lis
 t/event-details/?eventid=your_business_detail
CONTACT:01189 680 870
ORGANIZER;CN="Martin Norbury":https://networkinginsurrey.co.uk/profile
 /MartinNorbury729
ATTACH;FMTTYPE="image/jpeg":http://storage.ning.com/topology/rest/1.0/
 file/get/2591405566?profile=original
ATTENDEE;ROLE=REQ-PARTICIPANT;PARTSTAT=ACCEPTED;RSVP=TRUE;CN="Martin N
 orbury":https://networkinginsurrey.co.uk/profile/MartinNorbury729
END:VEVENT
END:VCALENDAR
