BEGIN:VCALENDAR
PRODID:NingEventWidget-v1
VERSION:2.0
METHOD:PUBLISH
BEGIN:VTIMEZONE
TZID:Europe/London
X-LIC-LOCATION:Europe/London
BEGIN:DAYLIGHT
TZOFFSETFROM:+0000
TZOFFSETTO:+0100
TZNAME:BST
DTSTART:19700329T010000
RRULE:FREQ=YEARLY;BYMONTH=3;BYDAY=-1SU
END:DAYLIGHT
BEGIN:STANDARD
TZOFFSETFROM:+0100
TZOFFSETTO:+0000
TZNAME:GMT
DTSTART:19701025T020000
RRULE:FREQ=YEARLY;BYMONTH=10;BYDAY=-1SU
END:STANDARD
END:VTIMEZONE
BEGIN:VEVENT
UID:4626108:Event:46962
DTSTAMP:20260426T050551Z
SUMMARY:Entrepreneur's Circle Evening, Farnborough
DESCRIPTION:'Procrastination - Disease of the Poor' at the Village Hot
 el\nThe 8 Secrets to tackling your demons and getting stuff done\nWe a
 ll do it - we all put stuff off - some of us are world class procrasti
 nators and some of us are just 'semi pro' - BUT we all do it...\nIt is
  a real issue though - the only way to build a business is to stop put
 ting stuff off and get it done which is often the key behind those tha
 t make money and those that don't.\nIn this session we will look at wh
 at makes us procrastinate, what we can do about it and how to change o
 ur habits with some really practical tools to help you overcome your p
 rocrastination demons and make your time super productive.\nAgenda:18:
 30 for drinks, Meeting will start at 19:00 and finish by 21:00\nCOST: 
 FREE to Members of the Entrepreneurs' Circle and first-time VIsitors\n
 BOOKING: Please CLICK HERE to register\nMAP\n\nFor more information vi
 sit https://networkinginsurrey.co.uk/events/entrepreneur-s-circle-proc
 rastination-disease-of-the-poor
DTSTART;TZID=Europe/London:20120920T190000
DTEND;TZID=Europe/London:20120920T210000
CATEGORIES:"entrepreneur's", circle
LOCATION:Village Hotel GU14 7BF
WEBSITE:http://businessgrowthadvisor.co.uk/reading-and-camberley/event
 -list/event-details/?eventid=procrastination
URL:http://businessgrowthadvisor.co.uk/reading-and-camberley/event-lis
 t/event-details/?eventid=procrastination
CONTACT:01189 680870
ORGANIZER;CN="Martin Norbury":https://networkinginsurrey.co.uk/profile
 /MartinNorbury729
ATTACH;FMTTYPE="image/jpeg":http://storage.ning.com/topology/rest/1.0/
 file/get/2591405566?profile=original
ATTENDEE;ROLE=REQ-PARTICIPANT;PARTSTAT=ACCEPTED;RSVP=TRUE;CN="Martin N
 orbury":https://networkinginsurrey.co.uk/profile/MartinNorbury729
END:VEVENT
END:VCALENDAR
