BEGIN:VCALENDAR
PRODID:NingEventWidget-v1
VERSION:2.0
METHOD:PUBLISH
BEGIN:VTIMEZONE
TZID:Europe/London
X-LIC-LOCATION:Europe/London
BEGIN:DAYLIGHT
TZOFFSETFROM:+0000
TZOFFSETTO:+0100
TZNAME:BST
DTSTART:19700329T010000
RRULE:FREQ=YEARLY;BYMONTH=3;BYDAY=-1SU
END:DAYLIGHT
BEGIN:STANDARD
TZOFFSETFROM:+0100
TZOFFSETTO:+0000
TZNAME:GMT
DTSTART:19701025T020000
RRULE:FREQ=YEARLY;BYMONTH=10;BYDAY=-1SU
END:STANDARD
END:VTIMEZONE
BEGIN:VEVENT
UID:4626108:Event:46718
DTSTAMP:20260425T191409Z
SUMMARY:Entrepreneur's Circle Midday Meeting, Camberley
DESCRIPTION:'Procrastination - Disease of the Poor' at Basepoint\n\nTh
 e 8 Secrets to tackling your demons and getting stuff done\nWe all do 
 it - we all put stuff off - some of us are world class procrastinators
  and some of us are just 'semi pro' - BUT we all do it...\nIt is a rea
 l issue though - the only way to build a business is to stop putting s
 tuff off and get it done which is often the key behind those that make
  money and those that don't.\nIn this session we will look at what mak
 es us procrastinate, what we can do about it and how to change our hab
 its with some really practical tools to help you overcome your procras
 tination demons and make your time super productive.\nAgenda: 11:30 f
 or 12:00 start and 14:00 finish\nCOST: FREE to Members of the Entrepre
 neurs' Circle and first-time VIsitors\nBOOKING: Please CLICK HERE to 
 register\nMAP\n \n\nFor more information visit https://networkinginsu
 rrey.co.uk/events/entrepreneur-s-circle-procrastination-disease-of-the
 -poor-1
DTSTART;TZID=Europe/London:20120912T113000
DTEND;TZID=Europe/London:20120912T140000
CATEGORIES:"entrepreneur's", circle
LOCATION:Camberley Basepoint GU15 3HL
WEBSITE:http://businessgrowthadvisor.co.uk/reading-and-camberley/event
 -list/event-details/?eventid=procrastination
URL:http://businessgrowthadvisor.co.uk/reading-and-camberley/event-lis
 t/event-details/?eventid=procrastination
CONTACT:01189 680870
ORGANIZER;CN="Martin Norbury":https://networkinginsurrey.co.uk/profile
 /MartinNorbury729
ATTACH;FMTTYPE="image/jpeg":http://storage.ning.com/topology/rest/1.0/
 file/get/2591405566?profile=original
ATTENDEE;ROLE=REQ-PARTICIPANT;PARTSTAT=ACCEPTED;RSVP=TRUE;CN="Martin N
 orbury":https://networkinginsurrey.co.uk/profile/MartinNorbury729
ATTENDEE;ROLE=REQ-PARTICIPANT;PARTSTAT=TENTATIVE;RSVP=TRUE;CN="David S
 haw":https://networkinginsurrey.co.uk/profile/DavidShaw
END:VEVENT
END:VCALENDAR
