BEGIN:VCALENDAR
PRODID:NingEventWidget-v1
VERSION:2.0
METHOD:PUBLISH
BEGIN:VTIMEZONE
TZID:Europe/London
X-LIC-LOCATION:Europe/London
BEGIN:DAYLIGHT
TZOFFSETFROM:+0000
TZOFFSETTO:+0100
TZNAME:BST
DTSTART:19700329T010000
RRULE:FREQ=YEARLY;BYMONTH=3;BYDAY=-1SU
END:DAYLIGHT
BEGIN:STANDARD
TZOFFSETFROM:+0100
TZOFFSETTO:+0000
TZNAME:GMT
DTSTART:19701025T020000
RRULE:FREQ=YEARLY;BYMONTH=10;BYDAY=-1SU
END:STANDARD
END:VTIMEZONE
BEGIN:VEVENT
UID:4626108:Event:37315
DTSTAMP:20260421T150539Z
SUMMARY:FREE Entrepreneur's Circle Evening, Farnham
DESCRIPTION:Entrepreneur's Circle 'Flying Start' at Farnham Castle\nAs
  a Surrey business owner, you may well be looking for new ideas, inspi
 ration and energy, and Nigel Botterill’s Entrepreneur’s Circle cou
 ld be just the place for you.\nYou may already have heard about us, as
  the Entrepreneur's Circle in Surrey is creating quite a buzz - both i
 n the media and locally - and you should definitely check us out to se
 e if we can give you the support you are looking for.\nAs well as all 
 the national and online support, we also meet locally each month to sh
 are business ideas and success stories, as well as working through a c
 ore theme to help you focus your business thinking. It’s definitely
  not networking – this is about sharing success strategies and pract
 ical hands-on advice on how to make stuff happen in your business. \n
 I'm working with Martin Davidge-Stringer, Farnham's social media exper
 t and the name behind 'the BestOf Farnham' website in Farnham and to
 gether we're running a 'taster' session FREE of charge for you, in 
 Farnham for you to come and see what you think.\nYou'll take plenty o
 f nuggets away with you to implement - and I promise it's not just a s
 ales pitch.  In fact, I'll warn you now, the worst that will happen i
 s that I will invite you to test drive the circle for just £11.95 for
  a couple of months!! \nCOST: FREE - all welcome!\nCLICK HERE TO SECU
 RE YOUR FREE PLACE\nMAP\n\nFor more information visit https://networki
 nginsurrey.co.uk/events/entrepreneur-s-circle-flying-start-in-farnham
DTSTART;TZID=Europe/London:20111201T173000
DTEND;TZID=Europe/London:20111201T193000
CATEGORIES:free, farnham, workshop, entrepreneurs_circle
LOCATION:Farnham Castle GU9 0AG
WEBSITE:https://www.eventelephant.com/theentrepreneurscircleflyingstar
 tinfarnham
URL:https://www.eventelephant.com/theentrepreneurscircleflyingstartinf
 arnham
CONTACT:
ORGANIZER;CN="Vanessa Lanham-Day":https://networkinginsurrey.co.uk/pro
 file/VanessaLanhamDay
ATTACH;FMTTYPE="image/jpeg":http://storage.ning.com/topology/rest/1.0/
 file/get/2591397071?profile=original
ATTENDEE;ROLE=REQ-PARTICIPANT;PARTSTAT=ACCEPTED;RSVP=TRUE;CN="Vanessa 
 Lanham-Day":https://networkinginsurrey.co.uk/profile/VanessaLanhamDay
END:VEVENT
END:VCALENDAR
