BEGIN:VCALENDAR
PRODID:NingEventWidget-v1
VERSION:2.0
METHOD:PUBLISH
BEGIN:VTIMEZONE
TZID:Europe/London
X-LIC-LOCATION:Europe/London
BEGIN:DAYLIGHT
TZOFFSETFROM:+0000
TZOFFSETTO:+0100
TZNAME:BST
DTSTART:19700329T010000
RRULE:FREQ=YEARLY;BYMONTH=3;BYDAY=-1SU
END:DAYLIGHT
BEGIN:STANDARD
TZOFFSETFROM:+0100
TZOFFSETTO:+0000
TZNAME:GMT
DTSTART:19701025T020000
RRULE:FREQ=YEARLY;BYMONTH=10;BYDAY=-1SU
END:STANDARD
END:VTIMEZONE
BEGIN:VEVENT
UID:4626108:Event:36816
DTSTAMP:20260421T080118Z
SUMMARY:Entrepreneur's Circle Evening, Sutton Green
DESCRIPTION:Entrepreneur's Circle - 12 Nuggets of Christmas at Sutton 
 Green Golf Club\n\nThe Entrepreneurâ€™s Circle is a local, national an
 d online community where business owners go to grow, and to learn how 
 to become super successful.\nÂ Itâ€™s not the 'run of the mill' busine
 ss club; far from it. It's bright, vibrant and full of energy and abso
 lutely inspires members to achieve really great things with their busi
 ness.\nWe have a great session lined up for you in December ...\nâ€™12
  Nuggets of Christmasâ€™ and The buyer seller dance!â€™\n\nWe have an 
 extra special event for you : The buyer seller dance!â€™-Â  taking con
 trol of your sales process . Member Ian Blackshire has agreed to come 
 along and do a 40 minute sales training presentation. Genuinely NOT to
  be missed... Ian is a simply BRILLIANT trainer with superb advice for
  â€˜non professional sales people.\nTo be accompanied by my special â€
 ™12 Nuggets of Christmasâ€™ session! - a revision of the 12 most impor
 tant nuggets of implementation that you ought to be doing in your busi
 ness\n\nÂ \nCOST: FREE to attend (but booking is essential please)\nBO
 OKING: To book your place please email sue@cproject.co.ukÂ \nMAPÂ Â  T
 here is plenty of parking available.\nÂ \n\nFor more information visit
  https://networkinginsurrey.co.uk/events/entrepreneur-s-circle-12-nugg
 ets-of-christmas
DTSTART;TZID=Europe/London:20111205T171500
DTEND;TZID=Europe/London:20111205T193000
CATEGORIES:free, guildford, workshop, growth, business
LOCATION:Sutton Green Golf Club GU4 7QF
WEBSITE:http://www.businessgrowthadvisor.co.uk/south-surrey-sutton-and
 -epsom
URL:http://www.businessgrowthadvisor.co.uk/south-surrey-sutton-and-eps
 om
CONTACT:
ORGANIZER;CN="Vanessa Lanham-Day":https://networkinginsurrey.co.uk/pro
 file/VanessaLanhamDay
ATTACH;FMTTYPE="image/jpeg":http://storage.ning.com/topology/rest/1.0/
 file/get/2591397071?profile=original
ATTENDEE;ROLE=REQ-PARTICIPANT;PARTSTAT=ACCEPTED;RSVP=TRUE;CN="Vanessa 
 Lanham-Day":https://networkinginsurrey.co.uk/profile/VanessaLanhamDay
ATTENDEE;ROLE=REQ-PARTICIPANT;PARTSTAT=TENTATIVE;RSVP=TRUE;CN="Annie H
 eggie":https://networkinginsurrey.co.uk/profile/Annie
END:VEVENT
END:VCALENDAR
