BEGIN:VCALENDAR
PRODID:NingEventWidget-v1
VERSION:2.0
METHOD:PUBLISH
BEGIN:VTIMEZONE
TZID:Europe/London
X-LIC-LOCATION:Europe/London
BEGIN:DAYLIGHT
TZOFFSETFROM:+0000
TZOFFSETTO:+0100
TZNAME:BST
DTSTART:19700329T010000
RRULE:FREQ=YEARLY;BYMONTH=3;BYDAY=-1SU
END:DAYLIGHT
BEGIN:STANDARD
TZOFFSETFROM:+0100
TZOFFSETTO:+0000
TZNAME:GMT
DTSTART:19701025T020000
RRULE:FREQ=YEARLY;BYMONTH=10;BYDAY=-1SU
END:STANDARD
END:VTIMEZONE
BEGIN:VEVENT
UID:4626108:Event:36820
DTSTAMP:20260421T040145Z
SUMMARY:Entrepreneur's Circle Morning, Reigate
DESCRIPTION:Entrepreneur's Circle - 12 Nuggets of Christmas at the Jol
 ly Farmers\n \nThe Entrepreneur’s Circle is a local, national and o
 nline community where business owners go to grow, and to learn how to 
 become super successful.\nIt’s not the 'run of the mill' business cl
 ub; far from it. It's bright, vibrant and full of energy and absolutel
 y inspires members to achieve really great things with their business.
 \nWe have a great session lined up for you in December ... \n’12 Nu
 ggets of Christmas’ and Your ‘Category of One!’\n\nHere we will 
 be focusing on your ‘category of one’ – a really important conce
 pt on how to make it an absolute no brainer for your target market to 
 be talking to you!\nTo be accompanied by my special ’12 Nuggets of C
 hristmas’ session! - a revision of the 12 most important nuggets of 
 implementation that you ought to be doing in your business\n\nLook for
 ward to seeing you there!\nVanessa\nCOST: FREE to attend (but booking 
 is essential please)\nBOOKING: To book your place please email sue@cpr
 oject.co.uk \nMAP\n \n \n\nFor more information visit https://netwo
 rkinginsurrey.co.uk/events/entrepreneur-s-circle-12-nuggets-of-christm
 as-2
DTSTART;TZID=Europe/London:20111208T084500
DTEND;TZID=Europe/London:20111208T110000
CATEGORIES:free, reigate, workshop, business, growth
LOCATION:The Jolly Farmers RH3 7BG
WEBSITE:http://www.businessgrowthadvisor.co.uk/south-surrey-sutton-and
 -epsom
URL:http://www.businessgrowthadvisor.co.uk/south-surrey-sutton-and-eps
 om
CONTACT:
ORGANIZER;CN="Vanessa Lanham-Day":https://networkinginsurrey.co.uk/pro
 file/VanessaLanhamDay
ATTACH;FMTTYPE="image/jpeg":http://storage.ning.com/topology/rest/1.0/
 file/get/2591397071?profile=original
ATTENDEE;ROLE=REQ-PARTICIPANT;PARTSTAT=ACCEPTED;RSVP=TRUE;CN="Vanessa 
 Lanham-Day":https://networkinginsurrey.co.uk/profile/VanessaLanhamDay
END:VEVENT
END:VCALENDAR
