BEGIN:VCALENDAR
PRODID:NingEventWidget-v1
VERSION:2.0
METHOD:PUBLISH
BEGIN:VTIMEZONE
TZID:Europe/London
X-LIC-LOCATION:Europe/London
BEGIN:DAYLIGHT
TZOFFSETFROM:+0000
TZOFFSETTO:+0100
TZNAME:BST
DTSTART:19700329T010000
RRULE:FREQ=YEARLY;BYMONTH=3;BYDAY=-1SU
END:DAYLIGHT
BEGIN:STANDARD
TZOFFSETFROM:+0100
TZOFFSETTO:+0000
TZNAME:GMT
DTSTART:19701025T020000
RRULE:FREQ=YEARLY;BYMONTH=10;BYDAY=-1SU
END:STANDARD
END:VTIMEZONE
BEGIN:VEVENT
UID:4626108:Event:37206
DTSTAMP:20260421T053045Z
SUMMARY:Entrepreneur's Circle Morning, Peaslake, Nr Dorking
DESCRIPTION:Entrepreneur's Circle - 12 Nuggets of Christmas at the Hur
 twood Inn\nThe Entrepreneur’s Circle is a local, national and online
  community where business owners go to grow, and to learn how to becom
 e super successful.\nIt’s not the 'run of the mill' business club; f
 ar from it. It's bright, vibrant and full of energy and absolutely ins
 pires members to achieve really great things with their business.\n \
 nWe have a great session lined up for you in December ...  \n \n’1
 2 Nuggets of Christmas’ and The buyer seller dance!’\n \n\nWe hav
 e an extra special event for you : The buyer seller dance!’  -  ta
 king control of your sales process . Member Ian Blackshire has agreed 
 to come along and do a 40 minute sales training presentation. Genuinel
 y NOT to be missed... Ian is a simply BRILLIANT trainer with superb ad
 vice for ‘non professional sales people.\nTo be accompanied by my sp
 ecial ’12 Nuggets of Christmas’ session! - a revision of the 12 mo
 st important nuggets of implementation that you ought to be doing in y
 our business\n\nCOST: FREE to attend (but booking is essential please)
 \nBOOKING: To book your place please email sue@cproject.co.uk \nMAP\n
 \nFor more information visit https://networkinginsurrey.co.uk/events/e
 ntrepreneur-s-circle-12-nuggets-of-christmas-1
DTSTART;TZID=Europe/London:20111206T101500
DTEND;TZID=Europe/London:20111206T123000
CATEGORIES:free, "peaslake/dorking", workshop
LOCATION:Hurtwood Inn GU5 9RR
WEBSITE:http://www.businessgrowthadvisor.co.uk/south-surrey-sutton-and
 -epsom
URL:http://www.businessgrowthadvisor.co.uk/south-surrey-sutton-and-eps
 om
CONTACT:
ORGANIZER;CN="Vanessa Lanham-Day":https://networkinginsurrey.co.uk/pro
 file/VanessaLanhamDay
ATTACH;FMTTYPE="image/jpeg":http://storage.ning.com/topology/rest/1.0/
 file/get/2591397071?profile=original
ATTENDEE;ROLE=REQ-PARTICIPANT;PARTSTAT=ACCEPTED;RSVP=TRUE;CN="Vanessa 
 Lanham-Day":https://networkinginsurrey.co.uk/profile/VanessaLanhamDay
END:VEVENT
END:VCALENDAR
