BEGIN:VCALENDAR
PRODID:NingEventWidget-v1
VERSION:2.0
METHOD:PUBLISH
BEGIN:VTIMEZONE
TZID:Europe/London
X-LIC-LOCATION:Europe/London
BEGIN:DAYLIGHT
TZOFFSETFROM:+0000
TZOFFSETTO:+0100
TZNAME:BST
DTSTART:19700329T010000
RRULE:FREQ=YEARLY;BYMONTH=3;BYDAY=-1SU
END:DAYLIGHT
BEGIN:STANDARD
TZOFFSETFROM:+0100
TZOFFSETTO:+0000
TZNAME:GMT
DTSTART:19701025T020000
RRULE:FREQ=YEARLY;BYMONTH=10;BYDAY=-1SU
END:STANDARD
END:VTIMEZONE
BEGIN:VEVENT
UID:4626108:Event:104301
DTSTAMP:20260424T021939Z
SUMMARY:Enterprise Connexions - Shepperton
DESCRIPTION:Enterprise Connexions at the Holiday Inn Shepperton\n\nht
 tps://www.youtube.com/watch?v=WB5vpy77q_8\nAt our meetings you will en
 gage with a diverse range of Go to experts, gaining direct introductio
 ns to skills & insights.\nYou'll meet potential new customers & great 
 new suppliers, who can help develop your business, & get you closer to
  where you want to be …. plus you'll have a great breakfast while yo
 u're at it!\nWe look forward to welcoming you at one of our business b
 reakfast meetings to and sharing the ECX experience.\nAttendance fee f
 or this business meeting is £15.00 (cash only), which includes tea,
  coffee & breakfast. CLICK HERE to BOOK  \nOur biweekly business me
 eting agenda is: \n\n6.30 – 7.00 AM     Rock up & mingle with o
 ther attendees & fellow members.\n7.00 – 7.15 AM     Grab yourse
 lf a breakfast.\n7.15 – 8.30 AM     Formal meeting, where you’
 ll have the opportunity to promote your business various ways.\n8.30 
 – 9.00 AM     Great opportunity to engage further with other att
 endees over more tea & coffee.\n\nWhat do I need:\n\nYourself – dre
 ss smartly / business like (Please Note - We have a 'No Jeans' Policy
  and for Health and Safety reasons, no opened toed shoes or bare feet.
 )\nBusiness card and Marketing material. (Please note Roll up banners
  or alike, are not permitted for non-members / visitors.)\n\nAt the ve
 nue:\n\nThere is complimentary onsite parking - Heron Wood Road or at 
 the other side of the venue, off Guildford Road.\n\nBOOKING: Please CL
 ICK HERE to book\nMAP\n\nFor more information visit https://networkin
 ginsurrey.co.uk/events/enterprise-connexions-shepperton
DTSTART;TZID=Europe/London:20190313T063000
DTEND;TZID=Europe/London:20190313T090000
CATEGORIES:breakfast, surrey, shepperton, enterprise, connexions
LOCATION:Holiday Inn Shpperton,
WEBSITE:https://www.google.com/maps/place/Holiday+Inn+London+-+Shepper
 ton/@51.3918068,-0.42668,17z/data=!3m1!4b1!4m5!3m4!1s0x487674543cfde12
 9:0xe57a6586e734163a!8m2!3d51.3918035!4d-0.424486
URL:https://www.google.com/maps/place/Holiday+Inn+London+-+Shepperton/
 @51.3918068,-0.42668,17z/data=!3m1!4b1!4m5!3m4!1s0x487674543cfde129:0x
 e57a6586e734163a!8m2!3d51.3918035!4d-0.424486
CONTACT:07804 693122
ORGANIZER:Soraya Anderson
ATTACH;FMTTYPE="image/jpeg":https://storage.ning.com/topology/rest/1.0
 /file/get/190842923?profile=original
ATTENDEE;ROLE=REQ-PARTICIPANT;PARTSTAT=ACCEPTED;RSVP=TRUE;CN="Martin F
 owler":https://networkinginsurrey.co.uk/profile/MartinFowler
END:VEVENT
END:VCALENDAR
