BEGIN:VCALENDAR
PRODID:NingEventWidget-v1
VERSION:2.0
METHOD:PUBLISH
BEGIN:VTIMEZONE
TZID:Europe/London
X-LIC-LOCATION:Europe/London
BEGIN:DAYLIGHT
TZOFFSETFROM:+0000
TZOFFSETTO:+0100
TZNAME:BST
DTSTART:19700329T010000
RRULE:FREQ=YEARLY;BYMONTH=3;BYDAY=-1SU
END:DAYLIGHT
BEGIN:STANDARD
TZOFFSETFROM:+0100
TZOFFSETTO:+0000
TZNAME:GMT
DTSTART:19701025T020000
RRULE:FREQ=YEARLY;BYMONTH=10;BYDAY=-1SU
END:STANDARD
END:VTIMEZONE
BEGIN:VEVENT
UID:4626108:Event:492729
DTSTAMP:20260420T231332Z
SUMMARY:Enterprise Connexions London Kingston Breakfast Time Online
DESCRIPTION:ECX Kingston Breakfast Time Online\n\nPlease watch our 42-
 seconds Welcome Video here...\n‘Roar about your business,’ with n
 o more than 20 attendees.\nECX meetings are well-structured! \n\nBuil
 d relationships, through collaboration, which can result in quality bu
 siness.\nExpand your connexions, to improve the marketing of your busi
 ness.\nTap into a wealth of expert knowledge, which will help you and 
 your business. \n\n‘Building your network, and being part of our co
 mmunity, can help your business thrive.’\nIf you’re a 1st time gue
 st to ECX, 'Be our guest and Network your Business on us!' Please use 
 this Link\n\nMeeting Agenda \n7.00 – 7.20 AM\n\n7.05am Sharp - Zoo
 m Roulette (Breakout Rooms. No more than 5 attendees per room.)\nOnly 
 20 seats available per meeting.\n\n 7.20 – 8.30 AM\n\nMeeting - giv
 ing you the opportunity to promote your business and hear about others
 .\nPick up valuable business ‘hints and tips’ and learn more about
  a members business during their ‘Spotlight.’\n\n After the meeti
 ng, you’re invited to continue building your network connexions and 
 arranging 1-2-1's with attendees.\n For the Meeting \n\n‘Dress for
  success’ at least from the waist up :)\n\nCOST: £15 - BUT if yo
 u’re a 1st time guest to ECX, 'Be our guest and Network your Busi
 ness on us!' Please use this Link to book a free place\nBOOKING: Pl
 ease CLICK HERE to register and we'll send the link to join our virt
 ual meeting  \n(ECX Members please use your meeting link to attend)\
 n\nFor more information visit https://networkinginsurrey.co.uk/events/
 enterprise-connexions-london-kingston-breakfast-time-online-17
DTSTART;TZID=Europe/London:20210408T070000
DTEND;TZID=Europe/London:20210408T083000
CATEGORIES:breakfast, kingston, surrey, enterprise, connexions
LOCATION:Online only
WEBSITE:https://www.google.com/maps/place/Hampton+Court+Palace+Golf+Cl
 ub/@51.3956865,-0.3214406,17z/data=!3m1!4b1!4m5!3m4!1s0x48760b96e8c2ad
 c1:0x9f2964858629c46d!8m2!3d51.3956832!4d-0.3192466
URL:https://www.google.com/maps/place/Hampton+Court+Palace+Golf+Club/@
 51.3956865,-0.3214406,17z/data=!3m1!4b1!4m5!3m4!1s0x48760b96e8c2adc1:0
 x9f2964858629c46d!8m2!3d51.3956832!4d-0.3192466
CONTACT:07804 693122
ORGANIZER:Soraya Anderson
ATTACH;FMTTYPE="image/jpeg":https://storage.ning.com/topology/rest/1.0
 /file/get/199838061?profile=original
ATTENDEE;ROLE=REQ-PARTICIPANT;PARTSTAT=ACCEPTED;RSVP=TRUE;CN="Martin F
 owler":https://networkinginsurrey.co.uk/profile/MartinFowler
END:VEVENT
END:VCALENDAR
