BEGIN:VCALENDAR
PRODID:NingEventWidget-v1
VERSION:2.0
METHOD:PUBLISH
BEGIN:VTIMEZONE
TZID:Europe/London
X-LIC-LOCATION:Europe/London
BEGIN:DAYLIGHT
TZOFFSETFROM:+0000
TZOFFSETTO:+0100
TZNAME:BST
DTSTART:19700329T010000
RRULE:FREQ=YEARLY;BYMONTH=3;BYDAY=-1SU
END:DAYLIGHT
BEGIN:STANDARD
TZOFFSETFROM:+0100
TZOFFSETTO:+0000
TZNAME:GMT
DTSTART:19701025T020000
RRULE:FREQ=YEARLY;BYMONTH=10;BYDAY=-1SU
END:STANDARD
END:VTIMEZONE
BEGIN:VEVENT
UID:4626108:Event:536178
DTSTAMP:20260421T032404Z
SUMMARY:Enterprise Connexions London Breakfast Online
DESCRIPTION:ECX London Breakfast Time Online\n\n\n\nPlease watch our 4
 2-secondsÂ Welcome Video here...\n\nOnline business meeting\n\nEngage 
 with likeminded business owners, build relationships, through collabor
 ation, which can result in quality business. Expand your connections, 
 to improve the marketing of your business. Tap into a wealth of expert
  knowledge, which will help you and your business thrive.\n\nECX meeti
 ngs are well-structured, giving you the opportunity to promote your bu
 siness and hear about others. Pick up valuable business â€˜hints and t
 ipsâ€™ and learn more about a memberâ€™s business during their â€˜Spot
 light.â€™Â \n\n'ECX, inspiring you and your business to connect for su
 ccess.'\n\nIf youâ€™re a 1st time guest to ECX, 'Be our guest and Netw
 ork your Business on us!' Please use thisÂ Link\n\nMeeting Agenda\n\n6
 .45 â€“ 7.00 AM Log-in (Waiting Room)\n\n\n\n7.00 â€“ 7.20 AM Â· 7.00a
 m Sharp - Zoom Roulette (Breakout Rooms. No more than 5 attendees per 
 room. Â· Only 20 seats available per meeting.\n\n\n\n7.20 â€“ 8.30 AM 
 Â· Meeting - giving you the opportunity to promote your business and h
 ear about others. Â· Pick up valuable business â€˜hints and tipsâ€™ an
 d learn more about a members business during their â€˜Spotlight.â€™\n\
 n\n\nAfter the meeting, youâ€™re invited to continue building your net
 work connections and arranging 1-2-1's with attendees.\n\n\nCOST: Â£15
 Â (first-time Visitors FREE using link above)\nBOOKING: PleaseÂ CLICK 
 HEREÂ to register and we'll send the link to join our virtual meetingÂ
  Â \n(ECX Members please use your meeting link to attend)\n\nFor more 
 information visit https://networkinginsurrey.co.uk/events/enterprise-c
 onnexions-london-breakfast-online-24
DTSTART;TZID=Europe/London:20230428T064500
DTEND;TZID=Europe/London:20230428T083000
CATEGORIES:breakfast, london, hayes, middlesex, heathrow, enterprise, 
 connexions
LOCATION:Online only
WEBSITE:
URL:
CONTACT:07804 693122
ORGANIZER:Soraya Anderson
ATTACH;FMTTYPE="image/jpeg":https://storage.ning.com/topology/rest/1.0
 /file/get/190836189?profile=original
ATTENDEE;ROLE=REQ-PARTICIPANT;PARTSTAT=ACCEPTED;RSVP=TRUE;CN="Martin F
 owler":https://networkinginsurrey.co.uk/profile/MartinFowler
END:VEVENT
END:VCALENDAR
