BEGIN:VCALENDAR
PRODID:NingEventWidget-v1
VERSION:2.0
METHOD:PUBLISH
BEGIN:VTIMEZONE
TZID:Europe/London
X-LIC-LOCATION:Europe/London
BEGIN:DAYLIGHT
TZOFFSETFROM:+0000
TZOFFSETTO:+0100
TZNAME:BST
DTSTART:19700329T010000
RRULE:FREQ=YEARLY;BYMONTH=3;BYDAY=-1SU
END:DAYLIGHT
BEGIN:STANDARD
TZOFFSETFROM:+0100
TZOFFSETTO:+0000
TZNAME:GMT
DTSTART:19701025T020000
RRULE:FREQ=YEARLY;BYMONTH=10;BYDAY=-1SU
END:STANDARD
END:VTIMEZONE
BEGIN:VEVENT
UID:4626108:Event:492834
DTSTAMP:20260420T231204Z
SUMMARY:Enterprise Connexions Farnborough Breakfast Time Online
DESCRIPTION:ECX Farnborough Breakfast Time Online\n\nPlease watch our 
 42-seconds Welcome Video here...\n‘Roar about your business,’ wit
 h no more than 20 attendees.\nECX meetings are well-structured! \n\nB
 uild relationships, through collaboration, which can result in quality
  business.\nExpand your connexions, to improve the marketing of your b
 usiness.\nTap into a wealth of expert knowledge, which will help you a
 nd your business. \n\n‘Building your network, and being part of our
  community, can help your business thrive.’\nIf you’re a 1st time 
 guest to ECX, 'Be our guest and Network your Business on us!' Please u
 se this Link\n\nMeeting Agenda \n7.00 – 7.20 AM\n\n7.05am Sharp - 
 Zoom Roulette (Breakout Rooms. No more than 5 attendees per room.)\nOn
 ly 20 seats available per meeting.\n\n 7.20 – 8.30 AM\n\nMeeting - 
 giving you the opportunity to promote your business and hear about oth
 ers.\nPick up valuable business ‘hints and tips’ and learn more ab
 out a members business during their ‘Spotlight.’\n\n After the me
 eting, you’re invited to continue building your network connexions a
 nd arranging 1-2-1's with attendees.\n For the Meeting \n\n‘Dress 
 for success’ at least from the waist up :)\n\nCOST: £15 - BUT if
  you’re a 1st time guest to ECX, 'Be our guest and Network your B
 usiness on us!' Please use this Link to book a free place\nBOOKING:
  Please CLICK HERE to register and we'll send the link to join our v
 irtual meeting  \n(ECX Members please use your meeting link to atten
 d)\n\nFor more information visit https://networkinginsurrey.co.uk/even
 ts/enterprise-connexions-farnborough-breakfast-time-online-18
DTSTART;TZID=Europe/London:20210409T070000
DTEND;TZID=Europe/London:20210409T083000
CATEGORIES:breakfast, hampshire, fleet, farnborough, enterprise, conne
 xions
LOCATION:Online only
WEBSITE:http://www.hifarnboroughhotel.co.uk/
URL:http://www.hifarnboroughhotel.co.uk/
CONTACT:07572 453883
ORGANIZER;CN="Martin Fowler":https://networkinginsurrey.co.uk/profile/
 MartinFowler
ATTACH;FMTTYPE="image/jpeg":https://storage.ning.com/topology/rest/1.0
 /file/get/199568486?profile=original
ATTENDEE;ROLE=REQ-PARTICIPANT;PARTSTAT=ACCEPTED;RSVP=TRUE;CN="Martin F
 owler":https://networkinginsurrey.co.uk/profile/MartinFowler
END:VEVENT
END:VCALENDAR
