BEGIN:VCALENDAR
PRODID:NingEventWidget-v1
VERSION:2.0
METHOD:PUBLISH
BEGIN:VTIMEZONE
TZID:Europe/London
X-LIC-LOCATION:Europe/London
BEGIN:DAYLIGHT
TZOFFSETFROM:+0000
TZOFFSETTO:+0100
TZNAME:BST
DTSTART:19700329T010000
RRULE:FREQ=YEARLY;BYMONTH=3;BYDAY=-1SU
END:DAYLIGHT
BEGIN:STANDARD
TZOFFSETFROM:+0100
TZOFFSETTO:+0000
TZNAME:GMT
DTSTART:19701025T020000
RRULE:FREQ=YEARLY;BYMONTH=10;BYDAY=-1SU
END:STANDARD
END:VTIMEZONE
BEGIN:VEVENT
UID:4626108:Event:95767
DTSTAMP:20260423T040225Z
SUMMARY:Enterprise Connexions EXTRA Evening, Guildford
DESCRIPTION:Enterprise Connexions Networking Evening at Regus Guildfor
 d\n\n“An evening of building Business Connexions”\nEnterprise Conn
 exions presents ECX ‘EXTRA’  - monthly business meetings designe
 d for business owners who are not able to attend our bi weekly breakfa
 st meetings, and prefer to make collaborative  business connexions on
  a basis in the evening. \nBy attending this meeting, you will be abl
 e to meet local businesses under one roof on a monthly basis, which wi
 ll assist you in building those important business connexions over bot
 tomless tea and coffee and a sandwich or two.\nYou will have the oppor
 tunity to introduce your business to the room for 60 seconds, to give 
 your virtual sales team a flavour on who you would like introductions 
 to and whom you are looking to collaborate with.   \nBook in advance
  through Eventbrite for £15 (£20 on the door - cash only) \nThe for
 mat of these business meetings\n\n 6pm to 7pm Registration and open n
 etworking\n7pm onwards – Introduction to my business\n9pm business m
 eeting closed.\n\nCOST: £15 pre-booked meeting fee (including Tea/Cof
 fee & Sandwiches) £20 on the door.\nBOOKING: Please CLICK HERE to bo
 ok\nMAP\n\nFor more information visit https://networkinginsurrey.co.uk
 /events/enterprise-connexions-extra-guildford
DTSTART;TZID=Europe/London:20180305T180000
DTEND;TZID=Europe/London:20180305T210000
CATEGORIES:evening, surrey, enterprise, connexions
LOCATION:The Regus Building GU2 7YB
WEBSITE:
URL:
CONTACT:07572453883
ORGANIZER;CN="Martin Fowler":https://networkinginsurrey.co.uk/profile/
 MartinFowler
ATTACH;FMTTYPE="image/jpeg":http://storage.ning.com/topology/rest/1.0/
 file/get/190842923?profile=original
ATTENDEE;ROLE=REQ-PARTICIPANT;PARTSTAT=ACCEPTED;RSVP=TRUE;CN="Martin F
 owler":https://networkinginsurrey.co.uk/profile/MartinFowler
ATTENDEE;ROLE=REQ-PARTICIPANT;PARTSTAT=ACCEPTED;RSVP=TRUE;CN="Simon Ro
 yston":https://networkinginsurrey.co.uk/profile/SimonRoyston
ATTENDEE;ROLE=REQ-PARTICIPANT;PARTSTAT=TENTATIVE;RSVP=TRUE;CN="Keith G
 rover, NiS Founder":https://networkinginsurrey.co.uk/profile/KeithGrov
 er
END:VEVENT
END:VCALENDAR
