BEGIN:VCALENDAR
PRODID:NingEventWidget-v1
VERSION:2.0
METHOD:PUBLISH
BEGIN:VTIMEZONE
TZID:Europe/London
X-LIC-LOCATION:Europe/London
BEGIN:DAYLIGHT
TZOFFSETFROM:+0000
TZOFFSETTO:+0100
TZNAME:BST
DTSTART:19700329T010000
RRULE:FREQ=YEARLY;BYMONTH=3;BYDAY=-1SU
END:DAYLIGHT
BEGIN:STANDARD
TZOFFSETFROM:+0100
TZOFFSETTO:+0000
TZNAME:GMT
DTSTART:19701025T020000
RRULE:FREQ=YEARLY;BYMONTH=10;BYDAY=-1SU
END:STANDARD
END:VTIMEZONE
BEGIN:VEVENT
UID:4626108:Event:96335
DTSTAMP:20260423T053357Z
SUMMARY:Enterprise Connexions EXTRA Evening, Farnborough
DESCRIPTION:Enterprise Connexions Networking Evening at Holiday I Farn
 borough\n“An evening of building Business Connexions”\nEnterprise 
 Connexions presents ECX ‘EXTRA’  - monthly business meetings des
 igned for business owners who are not able to attend our bi weekly bre
 akfast meetings, and prefer to make collaborative  business connexion
 s on a basis in the evening. \nBy attending this meeting, you will be
  able to meet local businesses under one roof on a monthly basis, whic
 h will assist you in building those important business connexions over
  bottomless tea and coffee and a sandwich or two.\nYou will have the o
 pportunity to introduce your business to the room for 60 seconds, to g
 ive your virtual sales team a flavour on who you would like introducti
 ons to and whom you are looking to collaborate with.   \nBook in adv
 ance through Eventbrite for £15 (£20 on the door - cash only) \nThe
  format of these business meetings\n\n 6pm to 7pm Registration and op
 en networking\n7pm onwards – Introduction to my business\n9pm busine
 ss meeting closed.\n\nCOST: £15 pre-booked meeting fee (including Tea
 /Coffee & Sandwiches) £20 on the door.\nBOOKING: Please CLICK HERE t
 o book\nMAP\n\nFor more information visit https://networkinginsurrey.c
 o.uk/events/enterprise-connexions-extra-evening-farnborough
DTSTART;TZID=Europe/London:20180319T180000
DTEND;TZID=Europe/London:20180319T210000
CATEGORIES:evening, surrey, enterprise, connexions
LOCATION:Holiday Inn
WEBSITE:
URL:
CONTACT:07572453883
ORGANIZER;CN="Martin Fowler":https://networkinginsurrey.co.uk/profile/
 MartinFowler
ATTACH;FMTTYPE="image/jpeg":http://storage.ning.com/topology/rest/1.0/
 file/get/190842923?profile=original
ATTENDEE;ROLE=REQ-PARTICIPANT;PARTSTAT=ACCEPTED;RSVP=TRUE;CN="Martin F
 owler":https://networkinginsurrey.co.uk/profile/MartinFowler
END:VEVENT
END:VCALENDAR
