BEGIN:VCALENDAR
PRODID:NingEventWidget-v1
VERSION:2.0
METHOD:PUBLISH
BEGIN:VTIMEZONE
TZID:Europe/London
X-LIC-LOCATION:Europe/London
BEGIN:DAYLIGHT
TZOFFSETFROM:+0000
TZOFFSETTO:+0100
TZNAME:BST
DTSTART:19700329T010000
RRULE:FREQ=YEARLY;BYMONTH=3;BYDAY=-1SU
END:DAYLIGHT
BEGIN:STANDARD
TZOFFSETFROM:+0100
TZOFFSETTO:+0000
TZNAME:GMT
DTSTART:19701025T020000
RRULE:FREQ=YEARLY;BYMONTH=10;BYDAY=-1SU
END:STANDARD
END:VTIMEZONE
BEGIN:VEVENT
UID:4626108:Event:101982
DTSTAMP:20260424T225908Z
SUMMARY:NEW VENUE: Enterprise Connexions Breakfast, Shepperton
DESCRIPTION:Enterprise Connexions atÂ the Holiday Inn London Shepperto
 n\r\n\r\nAcross the county line in West London, Martin Fowler is expan
 ding his empire! We occasionally feature such 'non-Surrey' events to e
 ncourage Members to spread their networking wings a little...\r\nhttps
 ://www.youtube.com/watch?v=WB5vpy77q_8\r\nAt our meetings you will eng
 age with a diverse range of Go to experts, gaining direct introduction
 s to skills & insights.\r\nYou'll meet potential new customers & great
  new suppliers, who can help develop your business, & get you closer t
 o where you want to be â€¦. plus you'll have a great breakfast while y
 ou're at it!\r\nWe look forward to welcoming you at one of our busines
 s breakfast meetings to and sharing the ECX experience.\r\nAttendance 
 fee for this business meeting isÂ Â£15.00, which includes tea, coffee 
 & breakfast.Â CLICK HEREÂ to BOOK Â \r\nOur biweekly business meeting 
 agenda is:Â \r\n\r\n6.30 â€“ 7.00 AMÂ Â Â Â  Rock up & mingle with oth
 er attendees & fellow members.\r\n7.00 â€“ 7.15 AMÂ Â Â Â  Grab yourse
 lf a breakfast.\r\n7.15 â€“ 8.30 AMÂ Â Â Â  Formal meeting, where youâ
 €™ll have the opportunity to promote yourÂ business various ways.\r\n8
 .30 â€“ 9.00 AMÂ Â Â Â  Great opportunity to engage further with other
  attendees over more tea &Â coffee.\r\n\r\nWhat do I need:\r\n\r\nYour
 self â€“ dress smartly / business likeÂ (Please Note - We have a 'No J
 eans' Policy and for Health and Safety reasons, no opened toed shoes o
 r bare feet.)\r\nBusiness card and Marketing material.Â (Please note R
 oll up banners or alike, are not permitted for non-members / visitors.
 )\r\n\r\nAt the venue:\r\n\r\nThere is complimentary onsite parkingÂ \
 r\n\r\nCOST: Â£16 including tea, coffee & breakfast\r\nBOOKING: Please
  CLICK HEREÂ to book\r\nMAP\n\nFor more information visit https://netw
 orkinginsurrey.co.uk/events/enterprise-connexions-breakfast-shepperton
DTSTART;TZID=Europe/London:20190130T063000
DTEND;TZID=Europe/London:20190130T090000
CATEGORIES:breakfast, surrey, shepperton, enterprise, connexions
LOCATION:Holiday Inn London Shepperton TW17 8NP
WEBSITE:https://enterpriseconnexions.com
URL:https://enterpriseconnexions.com
CONTACT:07572 453883
ORGANIZER;CN="Martin Fowler":https://networkinginsurrey.co.uk/profile/
 MartinFowler
ATTACH;FMTTYPE="image/jpeg":https://storage.ning.com/topology/rest/1.0
 /file/get/180599327?profile=original
ATTENDEE;ROLE=REQ-PARTICIPANT;PARTSTAT=ACCEPTED;RSVP=TRUE;CN="Martin F
 owler":https://networkinginsurrey.co.uk/profile/MartinFowler
END:VEVENT
END:VCALENDAR
