BEGIN:VCALENDAR
PRODID:NingEventWidget-v1
VERSION:2.0
METHOD:PUBLISH
BEGIN:VTIMEZONE
TZID:Europe/London
X-LIC-LOCATION:Europe/London
BEGIN:DAYLIGHT
TZOFFSETFROM:+0000
TZOFFSETTO:+0100
TZNAME:BST
DTSTART:19700329T010000
RRULE:FREQ=YEARLY;BYMONTH=3;BYDAY=-1SU
END:DAYLIGHT
BEGIN:STANDARD
TZOFFSETFROM:+0100
TZOFFSETTO:+0000
TZNAME:GMT
DTSTART:19701025T020000
RRULE:FREQ=YEARLY;BYMONTH=10;BYDAY=-1SU
END:STANDARD
END:VTIMEZONE
BEGIN:VEVENT
UID:4626108:Event:101984
DTSTAMP:20260424T052756Z
SUMMARY:Enterprise Connexions Breakfast, Shepperton
DESCRIPTION:Enterprise Connexions atÂ the Holiday Inn London Shepperto
 n\n\n\n\nAcross the county line in West London, Martin Fowler is expan
 ding his empire! We occasionally feature such 'non-Surrey' events to e
 ncourage Members to spread their networking wings a little...\nhttps:/
 /www.youtube.com/watch?v=WB5vpy77q_8\nAt our meetings you will engage 
 with a diverse range of Go to experts, gaining direct introductions to
  skills & insights.\nYou'll meet potential new customers & great new s
 uppliers, who can help develop your business, & get you closer to wher
 e you want to be â€¦. plus you'll have a great breakfast while you're 
 at it!\nWe look forward to welcoming you at one of our business breakf
 ast meetings to and sharing the ECX experience.\nAttendance fee for th
 is business meeting isÂ Â£15.00, which includes tea, coffee & breakfas
 t.Â CLICK HEREÂ to BOOK Â \nOur biweekly business meeting agenda is:Â 
 \n\n6.30 â€“ 7.00 AMÂ Â Â Â  Rock up & mingle with other attendees & f
 ellow members.\n7.00 â€“ 7.15 AMÂ Â Â Â  Grab yourself a breakfast.\n7
 .15 â€“ 8.30 AMÂ Â Â Â  Formal meeting, where youâ€™ll have the opport
 unity to promote yourÂ business various ways.\n8.30 â€“ 9.00 AMÂ Â Â Â
   Great opportunity to engage further with other attendees over more t
 ea &Â coffee.\n\nWhat do I need:\n\nYourself â€“ dress smartly / busin
 ess likeÂ (Please Note - We have a 'No Jeans' Policy and for Health an
 d Safety reasons, no opened toed shoes or bare feet.)\nBusiness card a
 nd Marketing material.Â (Please note Roll up banners or alike, are not
  permitted for non-members / visitors.)\n\nAt the venue:\n\nThere is c
 omplimentary onsite parkingÂ \n\nCOST: Â£16 including tea, coffee & br
 eakfast\nBOOKING: Please CLICK HEREÂ to book\nMAP\n\nFor more informat
 ion visit https://networkinginsurrey.co.uk/events/enterprise-connexion
 s-breakfast-shepperton-2
DTSTART;TZID=Europe/London:20190227T063000
DTEND;TZID=Europe/London:20190227T090000
CATEGORIES:breakfast, surrey, shepperton, enterprise, connexions
LOCATION:Holiday Inn London Shepperton TW17 8NP
WEBSITE:https://enterpriseconnexions.com
URL:https://enterpriseconnexions.com
CONTACT:07572 453883
ORGANIZER;CN="Martin Fowler":https://networkinginsurrey.co.uk/profile/
 MartinFowler
ATTACH;FMTTYPE="image/jpeg":https://storage.ning.com/topology/rest/1.0
 /file/get/180599327?profile=original
ATTENDEE;ROLE=REQ-PARTICIPANT;PARTSTAT=ACCEPTED;RSVP=TRUE;CN="Martin F
 owler":https://networkinginsurrey.co.uk/profile/MartinFowler
END:VEVENT
END:VCALENDAR
