BEGIN:VCALENDAR
PRODID:NingEventWidget-v1
VERSION:2.0
METHOD:PUBLISH
BEGIN:VTIMEZONE
TZID:Europe/London
X-LIC-LOCATION:Europe/London
BEGIN:DAYLIGHT
TZOFFSETFROM:+0000
TZOFFSETTO:+0100
TZNAME:BST
DTSTART:19700329T010000
RRULE:FREQ=YEARLY;BYMONTH=3;BYDAY=-1SU
END:DAYLIGHT
BEGIN:STANDARD
TZOFFSETFROM:+0100
TZOFFSETTO:+0000
TZNAME:GMT
DTSTART:19701025T020000
RRULE:FREQ=YEARLY;BYMONTH=10;BYDAY=-1SU
END:STANDARD
END:VTIMEZONE
BEGIN:VEVENT
UID:4626108:Event:287131
DTSTAMP:20260422T053958Z
SUMMARY:Enterprise Connexions Breakfast - London Kingston
DESCRIPTION:ECX at the Hampton Court Palace Golf Club\r\n\r\nWatch our
  introductory video here...\r\nOur London Kingston meetings are held 
 fortnightly on a Thursday from 7.00am to 9.00am. Boardroom style, wher
 e you can promote your business and make meaningful contacts.\r\nAtten
 dance fee - £20.00\r\nCLICK HERE to BOOK. \r\nCar Parking at the ve
 nue\r\nThere is complimentary onsite parking. Please enter your regist
 ration number at reception.\r\nAgenda\r\n7.00 – 7.30 AM Arrive and m
 ingle.\r\n7.30 – 7.45 AM Grab your breakfast.\r\n7.45 – 9.00 AM Fo
 rmal meeting, giving you the opportunity to promote your business and 
 hear about others.\r\nAfter the formal meeting, you’re invited to co
 ntinue building your network connexions over more tea and coffee.\r\nF
 or the Meeting\r\nBring plenty of business cards and marketing materia
 l to promote your business and ‘Dress for success’\r\nNB For Healt
 h & Safety reasons, no open-toed shoes or bare feet are permitted.\r\n
 COST: £20 meeting fee (+ £1.43 booking fee) including breaKfast\r\n
 BOOKING: Please CLICK HERE to book\r\nMAP\r\nGo through the gates be
 side the Old King's Head pub At Kingston Bridge and drive through the 
 park to the Club\n\nFor more information visit https://networkinginsur
 rey.co.uk/events/enterprise-connexions-breakfast-london-kingston-6
DTSTART;TZID=Europe/London:20200116T070000
DTEND;TZID=Europe/London:20200116T090000
CATEGORIES:breakfast, kingston, surrey, enterprise, connexions
LOCATION:Hampton Court Palace Golf Club
WEBSITE:https://www.google.com/maps/place/Hampton+Court+Palace+Golf+Cl
 ub/@51.3956865,-0.3214406,17z/data=!3m1!4b1!4m5!3m4!1s0x48760b96e8c2ad
 c1:0x9f2964858629c46d!8m2!3d51.3956832!4d-0.3192466
URL:https://www.google.com/maps/place/Hampton+Court+Palace+Golf+Club/@
 51.3956865,-0.3214406,17z/data=!3m1!4b1!4m5!3m4!1s0x48760b96e8c2adc1:0
 x9f2964858629c46d!8m2!3d51.3956832!4d-0.3192466
CONTACT:07804 693122
ORGANIZER:Soraya Anderson
ATTACH;FMTTYPE="image/jpeg":https://storage.ning.com/topology/rest/1.0
 /file/get/199838061?profile=original
ATTENDEE;ROLE=REQ-PARTICIPANT;PARTSTAT=ACCEPTED;RSVP=TRUE;CN="Martin F
 owler":https://networkinginsurrey.co.uk/profile/MartinFowler
END:VEVENT
END:VCALENDAR
