BEGIN:VCALENDAR
PRODID:NingEventWidget-v1
VERSION:2.0
METHOD:PUBLISH
BEGIN:VTIMEZONE
TZID:Europe/London
X-LIC-LOCATION:Europe/London
BEGIN:DAYLIGHT
TZOFFSETFROM:+0000
TZOFFSETTO:+0100
TZNAME:BST
DTSTART:19700329T010000
RRULE:FREQ=YEARLY;BYMONTH=3;BYDAY=-1SU
END:DAYLIGHT
BEGIN:STANDARD
TZOFFSETFROM:+0100
TZOFFSETTO:+0000
TZNAME:GMT
DTSTART:19701025T020000
RRULE:FREQ=YEARLY;BYMONTH=10;BYDAY=-1SU
END:STANDARD
END:VTIMEZONE
BEGIN:VEVENT
UID:4626108:Event:102118
DTSTAMP:20260424T064649Z
SUMMARY:Enterprise Connexions Breakfast, Gatwick
DESCRIPTION:Enterprise Connexions atÂ the Holiday Inn London Gatwick\r
 \n\r\nAcross the county line in West Sussex, Martin Fowler is expandin
 g his empire! We feature such 'non-Surrey' events to encourage Members
  to spread their networking wings a little. Find out more by watching 
 theÂ short video here...\r\nAt our meetings you will engage with a div
 erse range of Go to experts, gaining direct introductions to skills & 
 insights.\r\nYou'll meet potential new customers & great new suppliers
 , who can help develop your business, & get you closer to where you wa
 nt to be â€¦. plus you'll have a great breakfast while you're at it!\r
 \nWe look forward to welcoming you at one of our business breakfast me
 etings to and sharing the ECX experience.\r\nAttendance fee for this b
 usiness meeting isÂ Â£15.00, which includes tea, coffee & breakfast.Â 
 CLICK HEREÂ to BOOK Â \r\nOur biweekly business meeting agenda is:Â \r
 \n\r\n6.30 â€“ 7.00 AMÂ Â Â Â  Rock up & mingle with other attendees &
  fellow members.\r\n7.00 â€“ 7.15 AMÂ Â Â Â  Grab yourself a breakfast
 .\r\n7.15 â€“ 8.30 AMÂ Â Â Â  Formal meeting, where youâ€™ll have the 
 opportunity to promote yourÂ business various ways.\r\n8.30 â€“ 9.00 A
 MÂ Â Â Â  Great opportunity to engage further with other attendees ove
 r more tea &Â coffee.\r\n\r\nWhat do I need:\r\n\r\nYourself â€“ dress
  smartly / business likeÂ (Please Note - We have a 'No Jeans' Policy a
 nd for Health and Safety reasons, no opened toed shoes or bare feet.)\
 r\nBusiness card and Marketing material.Â (Please note Roll up banners
  or alike, are not permitted for non-members / visitors.)\r\n\r\nAt th
 e venue:\r\n\r\nThere is complimentary onsite parkingÂ \r\n\r\nCOST: Â
 £16 including tea, coffee & breakfast\r\nBOOKING: Please CLICK HEREÂ t
 o book\r\nMAP\n\nFor more information visit https://networkinginsurrey
 .co.uk/events/enterprise-connexions-breakfast-gatwick
DTSTART;TZID=Europe/London:20190123T063000
DTEND;TZID=Europe/London:20190123T090000
CATEGORIES:breakfast, surrey, horley, enterprise, connexions
LOCATION:Holiday Inn London Gatwick RH6 0BA
WEBSITE:https://enterpriseconnexions.com/club/london-gatwick
URL:https://enterpriseconnexions.com/club/london-gatwick
CONTACT:07572 453883
ORGANIZER;CN="Martin Fowler":https://networkinginsurrey.co.uk/profile/
 MartinFowler
ATTACH;FMTTYPE="image/jpeg":https://storage.ning.com/topology/rest/1.0
 /file/get/180599327?profile=original
ATTENDEE;ROLE=REQ-PARTICIPANT;PARTSTAT=ACCEPTED;RSVP=TRUE;CN="Martin F
 owler":https://networkinginsurrey.co.uk/profile/MartinFowler
END:VEVENT
END:VCALENDAR
