BEGIN:VCALENDAR
PRODID:NingEventWidget-v1
VERSION:2.0
METHOD:PUBLISH
BEGIN:VTIMEZONE
TZID:Europe/London
X-LIC-LOCATION:Europe/London
BEGIN:DAYLIGHT
TZOFFSETFROM:+0000
TZOFFSETTO:+0100
TZNAME:BST
DTSTART:19700329T010000
RRULE:FREQ=YEARLY;BYMONTH=3;BYDAY=-1SU
END:DAYLIGHT
BEGIN:STANDARD
TZOFFSETFROM:+0100
TZOFFSETTO:+0000
TZNAME:GMT
DTSTART:19701025T020000
RRULE:FREQ=YEARLY;BYMONTH=10;BYDAY=-1SU
END:STANDARD
END:VTIMEZONE
BEGIN:VEVENT
UID:4626108:Event:128758
DTSTAMP:20260424T131721Z
SUMMARY:Enterprise Connexions Breakfast, Gatwick
DESCRIPTION:Enterprise Connexions atÂ the Holiday Inn London Gatwick\r
 \nAcross the county line in West London, Martin Fowler is expanding hi
 s empire! We occasionally feature such 'non-Surrey' events to encourag
 e Members to spread their networking wings a little...\r\nWatch our 42
 -secondsÂ Welcome Video here...\r\nAt our meetings you will engage wit
 h a diverse range of Go to experts, gaining direct introductions to sk
 ills & insights.\r\nYou'll meet potential new customers & great new su
 ppliers, who can help develop your business, & get you closer to where
  you want to be â€¦. plus you'll have a great breakfast while you're a
 t it!\r\nWe look forward to welcoming you at one of our business break
 fast meetings to and sharing the ECX experience.\r\nCOST: Attendance f
 ee for this business meeting isÂ Â£15.00, which includes tea, coffee &
  breakfast.Â CLICK HEREÂ to BOOK Â \r\nOur biweekly business meeting a
 genda is:Â \r\n\r\n6.30 â€“ 7.00 AMÂ Â Â Â  Rock up & mingle with othe
 r attendees & fellow members.\r\n7.00 â€“ 7.15 AMÂ Â Â Â  Grab yoursel
 f a breakfast.\r\n7.15 â€“ 8.30 AMÂ Â Â Â  Formal meeting, where youâ€
 ™ll have the opportunity to promote yourÂ business various ways.\r\n8.
 30 â€“ 9.00 AMÂ Â Â Â  Great opportunity to engage further with other 
 attendees over more tea &Â coffee.\r\n\r\nWhat do I need:\r\n\r\nYours
 elf â€“ dress smartly / business likeÂ (Please Note - We have a 'No Je
 ans' Policy and for Health and Safety reasons, no opened toed shoes or
  bare feet.)\r\nBusiness card and Marketing material.Â (Please note Ro
 ll up banners or alike, are not permitted for non-members / visitors.)
 \r\n\r\nAt the venue:\r\n\r\nThere is complimentary onsite parkingÂ \r
 \n\r\nCOST: Â£16 including tea, coffee & breakfast\r\nBOOKING: Please 
 CLICK HEREÂ to book\r\nMAP\n\nFor more information visit https://netwo
 rkinginsurrey.co.uk/events/enterprise-connexions-breakfast-gatwick-8
DTSTART;TZID=Europe/London:20190515T063000
DTEND;TZID=Europe/London:20190515T090000
CATEGORIES:breakfast, surrey, horley, enterprise, connexions
LOCATION:Holiday Inn London Gatwick RH6 0BA
WEBSITE:https://enterpriseconnexions.com/club/london-gatwick
URL:https://enterpriseconnexions.com/club/london-gatwick
CONTACT:07572 453883
ORGANIZER;CN="Martin Fowler":https://networkinginsurrey.co.uk/profile/
 MartinFowler
ATTACH;FMTTYPE="image/jpeg":https://storage.ning.com/topology/rest/1.0
 /file/get/180599327?profile=original
ATTENDEE;ROLE=REQ-PARTICIPANT;PARTSTAT=ACCEPTED;RSVP=TRUE;CN="Martin F
 owler":https://networkinginsurrey.co.uk/profile/MartinFowler
END:VEVENT
END:VCALENDAR
