BEGIN:VCALENDAR
PRODID:NingEventWidget-v1
VERSION:2.0
METHOD:PUBLISH
BEGIN:VTIMEZONE
TZID:Europe/London
X-LIC-LOCATION:Europe/London
BEGIN:DAYLIGHT
TZOFFSETFROM:+0000
TZOFFSETTO:+0100
TZNAME:BST
DTSTART:19700329T010000
RRULE:FREQ=YEARLY;BYMONTH=3;BYDAY=-1SU
END:DAYLIGHT
BEGIN:STANDARD
TZOFFSETFROM:+0100
TZOFFSETTO:+0000
TZNAME:GMT
DTSTART:19701025T020000
RRULE:FREQ=YEARLY;BYMONTH=10;BYDAY=-1SU
END:STANDARD
END:VTIMEZONE
BEGIN:VEVENT
UID:4626108:Event:128689
DTSTAMP:20260424T040123Z
SUMMARY:Enterprise Connexions Breakfast, Gatwick
DESCRIPTION:Enterprise Connexions at the Holiday Inn London Gatwick\r
 \n\r\nAcross the county line in West London, Martin Fowler is expandin
 g his empire! We occasionally feature such 'non-Surrey' events to enco
 urage Members to spread their networking wings a little...\r\nWatch ou
 r 42-seconds Welcome Video here...\r\nAt our meetings you will engage
  with a diverse range of Go to experts, gaining direct introductions t
 o skills & insights.\r\nYou'll meet potential new customers & great ne
 w suppliers, who can help develop your business, & get you closer to w
 here you want to be …. plus you'll have a great breakfast while you'
 re at it!\r\nWe look forward to welcoming you at one of our business b
 reakfast meetings to and sharing the ECX experience.\r\nCOST: Attendan
 ce fee for this business meeting is £15.00, which includes tea, coff
 ee & breakfast. CLICK HERE to BOOK  \r\nOur biweekly business meeti
 ng agenda is: \r\n\r\n6.30 – 7.00 AM     Rock up & mingle with 
 other attendees & fellow members.\r\n7.00 – 7.15 AM     Grab you
 rself a breakfast.\r\n7.15 – 8.30 AM     Formal meeting, where y
 ou’ll have the opportunity to promote your business various ways.\r
 \n8.30 – 9.00 AM     Great opportunity to engage further with ot
 her attendees over more tea & coffee.\r\n\r\nWhat do I need:\r\n\r\nY
 ourself – dress smartly / business like (Please Note - We have a 'N
 o Jeans' Policy and for Health and Safety reasons, no opened toed shoe
 s or bare feet.)\r\nBusiness card and Marketing material. (Please not
 e Roll up banners or alike, are not permitted for non-members / visito
 rs.)\r\n\r\nAt the venue:\r\n\r\nThere is complimentary onsite parking
  \r\n\r\nCOST: £16 including tea, coffee & breakfast\r\nBOOKING: Ple
 ase CLICK HERE to book\r\nMAP\n\nFor more information visit https://n
 etworkinginsurrey.co.uk/events/enterprise-connexions-breakfast-gatwick
 -7
DTSTART;TZID=Europe/London:20190501T063000
DTEND;TZID=Europe/London:20190501T090000
CATEGORIES:breakfast, surrey, horley, enterprise, connexions
LOCATION:Holiday Inn London Gatwick RH6 0BA
WEBSITE:https://enterpriseconnexions.com/club/london-gatwick
URL:https://enterpriseconnexions.com/club/london-gatwick
CONTACT:07572 453883
ORGANIZER;CN="Martin Fowler":https://networkinginsurrey.co.uk/profile/
 MartinFowler
ATTACH;FMTTYPE="image/jpeg":https://storage.ning.com/topology/rest/1.0
 /file/get/180599327?profile=original
ATTENDEE;ROLE=REQ-PARTICIPANT;PARTSTAT=ACCEPTED;RSVP=TRUE;CN="Martin F
 owler":https://networkinginsurrey.co.uk/profile/MartinFowler
END:VEVENT
END:VCALENDAR
