BEGIN:VCALENDAR
PRODID:NingEventWidget-v1
VERSION:2.0
METHOD:PUBLISH
BEGIN:VTIMEZONE
TZID:Europe/London
X-LIC-LOCATION:Europe/London
BEGIN:DAYLIGHT
TZOFFSETFROM:+0000
TZOFFSETTO:+0100
TZNAME:BST
DTSTART:19700329T010000
RRULE:FREQ=YEARLY;BYMONTH=3;BYDAY=-1SU
END:DAYLIGHT
BEGIN:STANDARD
TZOFFSETFROM:+0100
TZOFFSETTO:+0000
TZNAME:GMT
DTSTART:19701025T020000
RRULE:FREQ=YEARLY;BYMONTH=10;BYDAY=-1SU
END:STANDARD
END:VTIMEZONE
BEGIN:VEVENT
UID:4626108:Event:113303
DTSTAMP:20260423T210337Z
SUMMARY:Enterprise Connexions Breakfast, Farnham
DESCRIPTION:Enterprise Connexions at the Farnham House Hotel\r\n\r\nW
 atch our introductory video here...\r\nAt our meetings you will engag
 e with a diverse range of Go to experts, gaining direct introductions 
 to skills & insights.\r\nYou'll meet potential new customers & great n
 ew suppliers, who can help develop your business, & get you closer to 
 where you want to be …. plus you'll have a great breakfast while you
 're at it!\r\nWe look forward to welcoming you at one of our business 
 breakfast meetings to and sharing the ECX experience.\r\nAttendance fe
 e for this business meeting is £15.00 (cash only), which includes t
 ea, coffee & breakfast. CLICK HERE to BOOK  \r\nOur biweekly busine
 ss meeting agenda is: \r\n\r\n6.30 – 7.00 AM     Rock up & ming
 le with other attendees & fellow members.\r\n7.00 – 7.15 AM     
 Grab yourself a breakfast.\r\n7.15 – 8.30 AM     Formal meeting,
  where you’ll have the opportunity to promote your business various
  ways.\r\n8.30 – 9.00 AM     Great opportunity to engage further
  with other attendees over more tea & coffee.\r\n\r\nWhat do I need:\
 r\n\r\nYourself – dress smartly / business like (Please Note - We h
 ave a 'No Jeans' Policy and for Health and Safety reasons, no opened t
 oed shoes or bare feet.)\r\nBusiness card and Marketing material. (Pl
 ease note Roll up banners or alike, are not permitted for non-members 
 / visitors.)\r\n\r\nAt the venue:\r\n\r\nThere is complimentary onsite
  parking - Heron Wood Road or at the other side of the venue, off Guil
 dford Road.\r\n\r\nCOST: £15.00 (cash only) including breakfast\r\n
 BOOKING: Please CLICK HERE to book\r\nMAP\n\nFor more information vis
 it https://networkinginsurrey.co.uk/events/enterprise-connexions-break
 fast-farnham
DTSTART;TZID=Europe/London:20190508T063000
DTEND;TZID=Europe/London:20190508T090000
CATEGORIES:breakfast, surrey, farnham, enterprise, connexions
LOCATION:Farnham House Hotel GU10 5ER
WEBSITE:https://www.google.com/maps/place/Farnham+House+Hotel/@51.2041
 823,-0.838089,17z/data=!3m1!4b1!4m5!3m4!1s0x48742dac267e6393:0x5ae0745
 b888740bb!8m2!3d51.2041823!4d-0.8359003
URL:https://www.google.com/maps/place/Farnham+House+Hotel/@51.2041823,
 -0.838089,17z/data=!3m1!4b1!4m5!3m4!1s0x48742dac267e6393:0x5ae0745b888
 740bb!8m2!3d51.2041823!4d-0.8359003
CONTACT:07572 453883
ORGANIZER;CN="Martin Fowler":https://networkinginsurrey.co.uk/profile/
 MartinFowler
ATTACH;FMTTYPE="image/jpeg":https://storage.ning.com/topology/rest/1.0
 /file/get/190842923?profile=original
ATTENDEE;ROLE=REQ-PARTICIPANT;PARTSTAT=ACCEPTED;RSVP=TRUE;CN="Martin F
 owler":https://networkinginsurrey.co.uk/profile/MartinFowler
END:VEVENT
END:VCALENDAR
