BEGIN:VCALENDAR
PRODID:NingEventWidget-v1
VERSION:2.0
METHOD:PUBLISH
BEGIN:VTIMEZONE
TZID:Europe/London
X-LIC-LOCATION:Europe/London
BEGIN:DAYLIGHT
TZOFFSETFROM:+0000
TZOFFSETTO:+0100
TZNAME:BST
DTSTART:19700329T010000
RRULE:FREQ=YEARLY;BYMONTH=3;BYDAY=-1SU
END:DAYLIGHT
BEGIN:STANDARD
TZOFFSETFROM:+0100
TZOFFSETTO:+0000
TZNAME:GMT
DTSTART:19701025T020000
RRULE:FREQ=YEARLY;BYMONTH=10;BYDAY=-1SU
END:STANDARD
END:VTIMEZONE
BEGIN:VEVENT
UID:4626108:Event:286990
DTSTAMP:20260423T144137Z
SUMMARY:Enterprise Connexions Breakfast, Farnham
DESCRIPTION:ECX (Guest Day) atÂ the Farnham House Hotel\r\n\r\nWatch o
 urÂ introductory video here...\r\nLove Your Business and make a date w
 ith us on Wednesday 12th February 2020 from 6.30am to 8.30am\r\nAttend
 ance fee - Â£15.00\r\nCLICK HEREÂ to BOOKÂ Â \r\nCar Parking at the ve
 nue\r\nThere is complimentary onsite parking.\r\nAgenda\r\n6.30 â€“ 7.
 00 AM Arrive and mingle.\r\n7.00 â€“ 7.15 AM Grab your breakfast.\r\n7
 .15 â€“ 8.30 AM Formal meeting, giving you the opportunity to promote 
 your business and hear about others.\r\nAfter the formal meeting, youâ
 €™re invited to continue building your network connexions over more te
 a and coffee.Â \r\nFor the Meeting\r\nBring plenty of business cards a
 nd marketing material to promote your business and â€˜Dress for succes
 sâ€™\r\nNB For Health & Safety reasons, no open-toed shoes or bare fee
 t are permitted.\r\nCOST:Â Â£15Â meeting fee (+Â Â£1.22 booking fee) i
 ncluding breaKfast\r\nBOOKING: Please CLICK HEREÂ to book\r\nMAP\n\nFo
 r more information visit https://networkinginsurrey.co.uk/events/enter
 prise-connexions-breakfast-farnham-19
DTSTART;TZID=Europe/London:20200212T063000
DTEND;TZID=Europe/London:20200212T083000
CATEGORIES:breakfast, surrey, farnham, enterprise, connexions
LOCATION:Farnham House Hotel GU10 5ER
WEBSITE:https://www.google.com/maps/place/Farnham+House+Hotel/@51.2041
 823,-0.838089,17z/data=!3m1!4b1!4m5!3m4!1s0x48742dac267e6393:0x5ae0745
 b888740bb!8m2!3d51.2041823!4d-0.8359003
URL:https://www.google.com/maps/place/Farnham+House+Hotel/@51.2041823,
 -0.838089,17z/data=!3m1!4b1!4m5!3m4!1s0x48742dac267e6393:0x5ae0745b888
 740bb!8m2!3d51.2041823!4d-0.8359003
CONTACT:07572 453883
ORGANIZER;CN="Martin Fowler":https://networkinginsurrey.co.uk/profile/
 MartinFowler
ATTACH;FMTTYPE="image/jpeg":https://storage.ning.com/topology/rest/1.0
 /file/get/190842923?profile=original
ATTENDEE;ROLE=REQ-PARTICIPANT;PARTSTAT=ACCEPTED;RSVP=TRUE;CN="Martin F
 owler":https://networkinginsurrey.co.uk/profile/MartinFowler
END:VEVENT
END:VCALENDAR
