BEGIN:VCALENDAR
PRODID:NingEventWidget-v1
VERSION:2.0
METHOD:PUBLISH
BEGIN:VTIMEZONE
TZID:Europe/London
X-LIC-LOCATION:Europe/London
BEGIN:DAYLIGHT
TZOFFSETFROM:+0000
TZOFFSETTO:+0100
TZNAME:BST
DTSTART:19700329T010000
RRULE:FREQ=YEARLY;BYMONTH=3;BYDAY=-1SU
END:DAYLIGHT
BEGIN:STANDARD
TZOFFSETFROM:+0100
TZOFFSETTO:+0000
TZNAME:GMT
DTSTART:19701025T020000
RRULE:FREQ=YEARLY;BYMONTH=10;BYDAY=-1SU
END:STANDARD
END:VTIMEZONE
BEGIN:VEVENT
UID:4626108:Event:222090
DTSTAMP:20260422T141033Z
SUMMARY:Enterprise Connexions Breakfast, Farnham
DESCRIPTION:ECX atÂ the Farnham House Hotel\n\nWatch ourÂ introductory
  video here...\nOur Farnham meetings are held fortnightly on a Wednesd
 ayÂ from 6.30am to 8.30am. Boardroom style, where you can promote your
  business and make meaningful contacts.\nAttendance fee - Â£15.00\nCLI
 CK HEREÂ to BOOKÂ Â \nCar Parking at the venue\nThere is complimentary
  onsite parking.\nAgenda\n6.30 â€“ 7.00 AM Arrive and mingle.\n7.00 â€
 “ 7.15 AM Grab your breakfast.\n7.15 â€“ 8.30 AM Formal meeting, givin
 g you the opportunity to promote your business and hear about others.\
 nAfter the formal meeting, youâ€™re invited to continue building your 
 network connexions over more tea and coffee.Â \nFor the Meeting\nBring
  plenty of business cards and marketing material to promote your busin
 ess and â€˜Dress for successâ€™\nNB For Health & Safety reasons, no op
 en-toed shoes or bare feet are permitted.\nBOOKING: Please CLICK HEREÂ
  to book\nMAP\n\nFor more information visit https://networkinginsurrey
 .co.uk/events/enterprise-connexions-breakfast-farnham-16
DTSTART;TZID=Europe/London:20200115T063000
DTEND;TZID=Europe/London:20200115T083000
CATEGORIES:breakfast, surrey, farnham, enterprise, connexions
LOCATION:Farnham House Hotel GU10 5ER
WEBSITE:https://www.google.com/maps/place/Farnham+House+Hotel/@51.2041
 823,-0.838089,17z/data=!3m1!4b1!4m5!3m4!1s0x48742dac267e6393:0x5ae0745
 b888740bb!8m2!3d51.2041823!4d-0.8359003
URL:https://www.google.com/maps/place/Farnham+House+Hotel/@51.2041823,
 -0.838089,17z/data=!3m1!4b1!4m5!3m4!1s0x48742dac267e6393:0x5ae0745b888
 740bb!8m2!3d51.2041823!4d-0.8359003
CONTACT:07572 453883
ORGANIZER;CN="Martin Fowler":https://networkinginsurrey.co.uk/profile/
 MartinFowler
ATTACH;FMTTYPE="image/jpeg":https://storage.ning.com/topology/rest/1.0
 /file/get/190842923?profile=original
ATTENDEE;ROLE=REQ-PARTICIPANT;PARTSTAT=ACCEPTED;RSVP=TRUE;CN="Martin F
 owler":https://networkinginsurrey.co.uk/profile/MartinFowler
END:VEVENT
END:VCALENDAR
