BEGIN:VCALENDAR
PRODID:NingEventWidget-v1
VERSION:2.0
METHOD:PUBLISH
BEGIN:VTIMEZONE
TZID:Europe/London
X-LIC-LOCATION:Europe/London
BEGIN:DAYLIGHT
TZOFFSETFROM:+0000
TZOFFSETTO:+0100
TZNAME:BST
DTSTART:19700329T010000
RRULE:FREQ=YEARLY;BYMONTH=3;BYDAY=-1SU
END:DAYLIGHT
BEGIN:STANDARD
TZOFFSETFROM:+0100
TZOFFSETTO:+0000
TZNAME:GMT
DTSTART:19701025T020000
RRULE:FREQ=YEARLY;BYMONTH=10;BYDAY=-1SU
END:STANDARD
END:VTIMEZONE
BEGIN:VEVENT
UID:4626108:Event:4748
DTSTAMP:20260424T131758Z
SUMMARY:Elmbridge Women In Business Evening - Dealing with the Media
DESCRIPTION:Dealing with the Media\n\nDo you know what makes a good ne
 ws story?\nCan you think of a single major brand that doesn’t use PR
  in its armoury?\nOur expert speaker is Nicky Rudd, MD of Padua Commun
 ications, www.paduacomms.co.uk Communication is changing and PR specia
 lists have led the way in communicating with the media. But no matter 
 what size your business is or what industry you are in, there are some
  key considerations when it comes to dealing with the media. This even
 t will cover some important specifics including Who to deal with in th
 e media\nHow to build relationships with key media\nWhat makes a news 
 story\nHow to write exciting, news-worthy copy\n\nThis meeting is open
  to members and visitors and there will be opportunities for formal an
 d informal networking as well as time to socialise over a light supper
 .\nCOST: £25 for visitors, £10 for EWiB members, including a light b
 uffet and refreshments.\nCLICK HERE TO BOOK\nVENUE\nMAP\nDIRECTIONS\nT
 here is limited parking in The Ship's own car park (often tricky to ne
 gotiate when it's busy!) and on-street parking is free in the evening.
 \n\n-------------------------------\nFounded by Sylvia Adams in 1996, 
 Elmbridge Women in Business has grown from its first meeting of 12 wom
 en to a vibrant group of business women with immensely varied working 
 lives.\nWe exist to enable women in business to tap into the experienc
 e and expertise of other members, develop valuable business skills and
  make new contacts in a collaborative environment. We do this in a var
 iety of ways, including monthly meetings with interesting speakers cov
 ering three main subject areas: professional development; personal dev
 elopment; general interest and fun.\n\nFor more information visit http
 s://networkinginsurrey.co.uk/events/elmbridge-women-in-business-4
DTSTART;TZID=Europe/London:20101111T193000
DTEND;TZID=Europe/London:20101111T213000
CATEGORIES:evening, business_networking_surrey, elmbridge_women_in_bus
 iness
LOCATION:Best Western Ship Hotel, Monument Green, Weybridge, KT13 8BQ
WEBSITE:http://maps.google.co.uk/maps?f=q&source=s_q&hl=en&geocode=&q=
 kt13+8BQ&sll=53.800651,-4.064941&sspn=19.301109,38.71582&ie=UTF8&hq=&h
 near=Weybridge+KT13+8BQ,+United+Kingdom&z=16
URL:http://maps.google.co.uk/maps?f=q&source=s_q&hl=en&geocode=&q=kt13
 +8BQ&sll=53.800651,-4.064941&sspn=19.301109,38.71582&ie=UTF8&hq=&hnear
 =Weybridge+KT13+8BQ,+United+Kingdom&z=16
CONTACT:07590 537016
ORGANIZER:Elmbridge Women In Business
ATTACH;FMTTYPE="image/jpeg":http://storage.ning.com/topology/rest/1.0/
 file/get/2591374802?profile=original
ATTENDEE;ROLE=REQ-PARTICIPANT;PARTSTAT=ACCEPTED;RSVP=TRUE;CN="Nicky Ru
 dd":https://networkinginsurrey.co.uk/profile/NickyRudd
ATTENDEE;ROLE=REQ-PARTICIPANT;PARTSTAT=TENTATIVE;RSVP=TRUE;CN="Tanja G
 ower":https://networkinginsurrey.co.uk/profile/TanjaGower
END:VEVENT
END:VCALENDAR
