BEGIN:VCALENDAR
PRODID:NingEventWidget-v1
VERSION:2.0
METHOD:PUBLISH
BEGIN:VTIMEZONE
TZID:Europe/London
X-LIC-LOCATION:Europe/London
BEGIN:DAYLIGHT
TZOFFSETFROM:+0000
TZOFFSETTO:+0100
TZNAME:BST
DTSTART:19700329T010000
RRULE:FREQ=YEARLY;BYMONTH=3;BYDAY=-1SU
END:DAYLIGHT
BEGIN:STANDARD
TZOFFSETFROM:+0100
TZOFFSETTO:+0000
TZNAME:GMT
DTSTART:19701025T020000
RRULE:FREQ=YEARLY;BYMONTH=10;BYDAY=-1SU
END:STANDARD
END:VTIMEZONE
BEGIN:VEVENT
UID:4626108:Event:2642
DTSTAMP:20260425T174113Z
SUMMARY:Elmbridge Business Breakfast Club, Cobham
DESCRIPTION:Elmbridge Business Networking Club\n\nCome and join us at 
 these regular informal breakfasts. There are no speakers, they are des
 igned to give you a regular opportunity to meet and discuss local issu
 es and widen your own network of customers, suppliers, neighbours and 
 competitors.\nCome to one, some or all of the breakfasts - it’s a gr
 eat way to start the day, meet new people and get well fed into the ba
 rgain!\nPlease note that bookings can be made up to the day of the eve
 nt, however those made within two days of the event may not be include
 d in the delegate list.\n\nCOST: Members: £12.00 Non-Members: £20.00
  - breakfast is included\nBOOK HERE\nYou will need to register (free) 
 to be able to book online.\nMAP\nVENUE\n--------------------------\nSu
 rrey Chambers of Commerce, with a membership representing every sector
  of the workforce, works hard to ensure that the continued growth of t
 he area takes into account the needs of business, as well as providing
  a range of high quality services to help you grow your business and m
 eet new potential customers.\n\nFor more information visit https://net
 workinginsurrey.co.uk/events/elmbridge-business-breakfast-3
DTSTART;TZID=Europe/London:20100624T073000
DTEND;TZID=Europe/London:20100624T090000
CATEGORIES:breakfast, cobham, weybridge, surrey_chambers, business_net
 working
LOCATION:HIlton Hotel, Cobham KT11 1EW
WEBSITE:http://www.surrey-chambers.co.uk/catalog/product_info.php?cPat
 h=21_23&products_id=108&osCsid=fqq4bj468c7g8tgqaqe37mok23
URL:http://www.surrey-chambers.co.uk/catalog/product_info.php?cPath=21
 _23&products_id=108&osCsid=fqq4bj468c7g8tgqaqe37mok23
CONTACT:
ORGANIZER:Richard Guillaume, Surrey Chambers
ATTACH;FMTTYPE="image/jpeg":http://storage.ning.com/topology/rest/1.0/
 file/get/2591374591?profile=original
ATTENDEE;ROLE=REQ-PARTICIPANT;PARTSTAT=ACCEPTED;RSVP=TRUE;CN="Mike Rut
 herford":https://networkinginsurrey.co.uk/profile/MikeRutherford
ATTENDEE;ROLE=REQ-PARTICIPANT;PARTSTAT=ACCEPTED;RSVP=TRUE;CN="Derek Wi
 lliamson":https://networkinginsurrey.co.uk/profile/DerekWilliamson
ATTENDEE;ROLE=REQ-PARTICIPANT;PARTSTAT=TENTATIVE;RSVP=TRUE;CN="Keith G
 rover, NiS Founder":https://networkinginsurrey.co.uk/profile/KeithGrov
 er
END:VEVENT
END:VCALENDAR
