BEGIN:VCALENDAR
PRODID:NingEventWidget-v1
VERSION:2.0
METHOD:PUBLISH
BEGIN:VTIMEZONE
TZID:Europe/London
X-LIC-LOCATION:Europe/London
BEGIN:DAYLIGHT
TZOFFSETFROM:+0000
TZOFFSETTO:+0100
TZNAME:BST
DTSTART:19700329T010000
RRULE:FREQ=YEARLY;BYMONTH=3;BYDAY=-1SU
END:DAYLIGHT
BEGIN:STANDARD
TZOFFSETFROM:+0100
TZOFFSETTO:+0000
TZNAME:GMT
DTSTART:19701025T020000
RRULE:FREQ=YEARLY;BYMONTH=10;BYDAY=-1SU
END:STANDARD
END:VTIMEZONE
BEGIN:VEVENT
UID:4626108:Event:7281
DTSTAMP:20260422T081246Z
SUMMARY:Ecademy Evening with Wendy Ager, Croydon
DESCRIPTION:Croydon Ecademy at Chefs Restaurant\n\n \"Get focussed\" 
 with our Guest speaker Wendy Ager!\nNiS Member Wendy Ager will be ta
 king us through a process to get us focussed on our business and marke
 ting plans for 2011.Since Wendy trained with The Coaching Academy, the
  largest training school for coaches in the UK, she has been constantl
 y learning and progressing with her own business. She uses this knowle
 dge to help others with theirs and to get focussed. She's actively emb
 races learning and taking on board advice about effective marketing, S
 EO and using social media and other forms of promotion to help grow he
 r business and to support others with theirs.'I wanted to find out the
  best way to attract more people to my business. Wendy has a wealth of
  knowledge and ideas that helped me with the marketing side of my busi
 ness and made many suggestions on how to attract more clients. Since s
 eeing Wendy more people have been finding me on the internet and gener
 ally business is improving.' Jackie Perez, Perfect Balance HealthCOST:
  £10 to cover the cost of room hire and the finger buffet. Contact Hu
 w WIlliams for discount offers for new members and guests.\n \nCLICK 
 HEREto register and pay by PayPal\nor send a cheque in advance to Huw 
 Williams, 35 Russell Hill Road, Purley, CR8 2LF\nMAP\nVENUE \nLocated
  at the Croydon College with entrance on Park Lane, Chefs consists of 
 a Restaurant, a main kitchen and a Coffee Bar\n\nFor more information 
 visit https://networkinginsurrey.co.uk/events/ecademy-evening-with-wen
 dy
DTSTART;TZID=Europe/London:20110127T183000
DTEND;TZID=Europe/London:20110127T210000
CATEGORIES:business_networking_surrey, croydon, evening
LOCATION:Chefs Restaurant, Croydon College CR9 1DX
WEBSITE:http://www.ecademy.com/module.php?mod=meeting&mid=35545
URL:http://www.ecademy.com/module.php?mod=meeting&mid=35545
CONTACT:
ORGANIZER;CN="Huw WIlliams":https://networkinginsurrey.co.uk/profile/H
 uwWIlliams
ATTACH;FMTTYPE="image/jpeg":http://storage.ning.com/topology/rest/1.0/
 file/get/2591391183?profile=original
ATTENDEE;ROLE=REQ-PARTICIPANT;PARTSTAT=ACCEPTED;RSVP=TRUE;CN="Wendy Ag
 er":https://networkinginsurrey.co.uk/profile/WendyAger
ATTENDEE;ROLE=REQ-PARTICIPANT;PARTSTAT=ACCEPTED;RSVP=TRUE;CN="Huw WIll
 iams":https://networkinginsurrey.co.uk/profile/HuwWIlliams
END:VEVENT
END:VCALENDAR
