BEGIN:VCALENDAR
PRODID:NingEventWidget-v1
VERSION:2.0
METHOD:PUBLISH
BEGIN:VTIMEZONE
TZID:Europe/London
X-LIC-LOCATION:Europe/London
BEGIN:DAYLIGHT
TZOFFSETFROM:+0000
TZOFFSETTO:+0100
TZNAME:BST
DTSTART:19700329T010000
RRULE:FREQ=YEARLY;BYMONTH=3;BYDAY=-1SU
END:DAYLIGHT
BEGIN:STANDARD
TZOFFSETFROM:+0100
TZOFFSETTO:+0000
TZNAME:GMT
DTSTART:19701025T020000
RRULE:FREQ=YEARLY;BYMONTH=10;BYDAY=-1SU
END:STANDARD
END:VTIMEZONE
BEGIN:VEVENT
UID:4626108:Event:5734
DTSTAMP:20260423T130406Z
SUMMARY:Ecademy Evening with Matt Hodkinson, Weybridge
DESCRIPTION:Ecademy Evening, Weybridge\n\nWe are delighted to have Mat
 t Hodkinson, Social Media Locksmith at Influence Agents as our Special
  Guest this month. Matt is also known as the \"Socialmediaphobe's Best
  Friend\" and is an expert on SEO Optimisation and 'unlocking' knowled
 ge on what the internet is saying about your company! \"Listening Onli
 ne ... 2 ears, 1 mouth, for the digital generation\"\nThe overriding m
 essage will be about the fact that Social Media is just a tool, that o
 nline networking is still about people-to-people interaction, and list
 ening is the first stage in forging relationships, and creating opport
 unities in Social Media. Matt will cite his appearance on BBC Breakfas
 t as an example.\nWe are surely in for a fascinating event - so book n
 ow to ensure your place for the last Weybridge Ecademy Evebnt of 2010.
  It's great vale at just £6 including Matt's talk, excellent networki
 ng and social interaction.\nCOST: £6 per person - Members of Ecademy 
 and non-Members all welcome\nEcademy Members CLICK HERE TO BOOK Non-me
 mbers please email David Nunn nunn_d@hotmail.com\nMAP\nVENUE\nThere is
  limited parking in The Ship's own car park - free on-steet parking af
 ter 6pm\n\n----------------------\nEcademy is the world's first online
  business and social networking site (pre-dating Facebook, LinkedIn et
 c by several years) and has ove 500,000 Members worldwide.\n Ecademy e
 ncourages Members to meet locally wherever possible and the Weybridge 
 Ecademy group 0rgnansed by NiS Members David Nunn and David Shaw has o
 ver 200 Members and meets on the last Monday evening of each month wit
 h a presentation from an expert guest speaker.\n\nFor more information
  visit https://networkinginsurrey.co.uk/events/ecademy-evening-with-ma
 tt
DTSTART;TZID=Europe/London:20101129T190000
DTEND;TZID=Europe/London:20101129T220000
CATEGORIES:evening, weybridge, ecademy, business_networking_surrey
LOCATION:The Ship Hotel KT13 8BQ
WEBSITE:http://www.ecademy.com/module.php?mod=meeting&mid=35178
URL:http://www.ecademy.com/module.php?mod=meeting&mid=35178
CONTACT:
ORGANIZER:David Nunn
ATTACH;FMTTYPE="image/jpeg":http://storage.ning.com/topology/rest/1.0/
 file/get/2591386062?profile=original
ATTENDEE;ROLE=REQ-PARTICIPANT;PARTSTAT=ACCEPTED;RSVP=TRUE;CN="Steve Br
 idger":https://networkinginsurrey.co.uk/profile/SteveBridger
ATTENDEE;ROLE=REQ-PARTICIPANT;PARTSTAT=ACCEPTED;RSVP=TRUE;CN="Keith Gr
 over, NiS Founder":https://networkinginsurrey.co.uk/profile/KeithGrove
 r
ATTENDEE;ROLE=REQ-PARTICIPANT;PARTSTAT=TENTATIVE;RSVP=TRUE;CN="Sonia D
 uggan, Life Coach Surrey":https://networkinginsurrey.co.uk/profile/Son
 iaDuggan
END:VEVENT
END:VCALENDAR
