BEGIN:VCALENDAR
PRODID:NingEventWidget-v1
VERSION:2.0
METHOD:PUBLISH
BEGIN:VTIMEZONE
TZID:Europe/London
X-LIC-LOCATION:Europe/London
BEGIN:DAYLIGHT
TZOFFSETFROM:+0000
TZOFFSETTO:+0100
TZNAME:BST
DTSTART:19700329T010000
RRULE:FREQ=YEARLY;BYMONTH=3;BYDAY=-1SU
END:DAYLIGHT
BEGIN:STANDARD
TZOFFSETFROM:+0100
TZOFFSETTO:+0000
TZNAME:GMT
DTSTART:19701025T020000
RRULE:FREQ=YEARLY;BYMONTH=10;BYDAY=-1SU
END:STANDARD
END:VTIMEZONE
BEGIN:VEVENT
UID:4626108:Event:7169
DTSTAMP:20260422T132530Z
SUMMARY:Ecademy Evening with Keith Grover, Weybridge
DESCRIPTION:Ecademy Evening, Weybridge\n\nFor January's meeting, we we
 lvome our very own Keith Grover, marketing copywriter and web content 
 specialist join us as our Guest Speaker.\nTweet yourself to more custo
 mers - How to write killer copy for websites and social mediaIn this i
 nformal and interactive session, Keith explores how online promotional
  copy works differently from conventional print-based materials. He sh
 ows how you can harness the power of words on your websites, in emails
 , blogs and Tweets, making an impact and impression on your potential 
 customers, and persuading them to buy your products and services.As a 
 freelance writer Keith  has crafted powerful and persuasive copy for
  direct marketing, brochures, newsletters and websites for clients ran
 ging from the public sector and multinational corporates to SMEs and m
 icro-businesses. He has 'entrepreneurial tendencies' and is currently
  running three businesses - the newest of which is NetworkingInSurrey.
 com, an events listings website that 'does what it says on the tin'!Wh
 en he presented this seminar at the recent Woking Means Business Exhi
 bition, this was the response from show organiser Paul Webster of The 
 Webster Partnership:\n\"Hi Keith - Many thanks for the seminar you del
 ivered on Thursday. I hope you enjoyed your day with us. The delegates
  obviously enjoyed your presentation as I translated the scores on the
  feedback forms into percentages and you scored nearly 96%! Brilliant.
 One comment from an experienced speaker in the audience was 'Absolutel
 y brilliant. Could have listened for hours. Great content, brilliantly
  delivered and totally engaging.' Can't ask more than that! Thanks aga
 in. Paul\"We are surely in for a fascinating event - so book now to en
 sure your place for the first Weybridge Ecademy Event of 2011. It's gr
 eat vale at just £6 including Keith's talk, excellent networking and 
 social interaction.\nCOST: £6 per person - Members of Ecademy and non
 -Members all welcome\nEcademy Members CLICK HERE TO BOOK Non-members p
 lease email David Nunn nunn_d@hotmail.com\nMAP\nVENUE\nThere is limite
 d parking in The Ship's own car park - free on-steet parking after 6pm
 \n----------------------\nEcademy is the world's first online business
  and social networking site (pre-dating Facebook, LinkedIn etc by seve
 ral years) and has ove 500,000 Members worldwide.\n Ecademy encourages
  Members to meet locally wherever possible and the Weybridge Ecademy g
 roup 0rgnansed by NiS Members David Nunn and David Shaw has over 200 M
 embers and meets on the last Monday evening of each month with a prese
 ntation from an expert guest speaker.\n\nFor more information visit ht
 tps://networkinginsurrey.co.uk/events/ecademy-evening-with-keith
DTSTART;TZID=Europe/London:20110131T190000
DTEND;TZID=Europe/London:20110131T213000
CATEGORIES:evening, weybridge, ecademy, business_networking_surrey
LOCATION:The Ship Hotel KT13 8BQ
WEBSITE:http://www.ecademy.com/module.php?mod=meeting&mid=35777
URL:http://www.ecademy.com/module.php?mod=meeting&mid=35777
CONTACT:
ORGANIZER:David Nunn
ATTACH;FMTTYPE="image/jpeg":http://storage.ning.com/topology/rest/1.0/
 file/get/2591386062?profile=original
ATTENDEE;ROLE=REQ-PARTICIPANT;PARTSTAT=ACCEPTED;RSVP=TRUE;CN="Steve Br
 idger":https://networkinginsurrey.co.uk/profile/SteveBridger
ATTENDEE;ROLE=REQ-PARTICIPANT;PARTSTAT=ACCEPTED;RSVP=TRUE;CN="Keith Gr
 over, NiS Founder":https://networkinginsurrey.co.uk/profile/KeithGrove
 r
END:VEVENT
END:VCALENDAR
