BEGIN:VCALENDAR
PRODID:NingEventWidget-v1
VERSION:2.0
METHOD:PUBLISH
BEGIN:VTIMEZONE
TZID:Europe/London
X-LIC-LOCATION:Europe/London
BEGIN:DAYLIGHT
TZOFFSETFROM:+0000
TZOFFSETTO:+0100
TZNAME:BST
DTSTART:19700329T010000
RRULE:FREQ=YEARLY;BYMONTH=3;BYDAY=-1SU
END:DAYLIGHT
BEGIN:STANDARD
TZOFFSETFROM:+0100
TZOFFSETTO:+0000
TZNAME:GMT
DTSTART:19701025T020000
RRULE:FREQ=YEARLY;BYMONTH=10;BYDAY=-1SU
END:STANDARD
END:VTIMEZONE
BEGIN:VEVENT
UID:4626108:Event:19602
DTSTAMP:20260423T162631Z
SUMMARY:Ecademy Evening, Weybridge
DESCRIPTION:Ecademy 'Networking to Win' at The Ship\n\nWeybridge Ecade
 my holds regular monthly sociable networking meetings at The Ship Hote
 l in Weybridge giving you the opportunity to network and hear from g
 reat Guest Speakers.  We have been going for over 10 years now and no
 n-Members are always made very welcome. \nThis month, we welcome Keit
 h Grover and Arnie Fabius as our Guest speakers.  Keith is a Marketin
 g Copywriter & Web Content Specialist and Arnie provides planning and 
 technical support for business software, electronic data processing an
 d social media management. Both arebeen long-term members of Weybridge
  Ecademy (thanks guys!)\nKeith, a serial networker, runs Networking in
  Surrey and its sister websites for Berkshire and Bucks.\nTonight's pr
 esentations will be a topical look at online and offline business net
 working including Social Networking and the Use of Social Media.  Ke
 ith will give an overview of the networking groups and organisations i
 n Surrey and their relative merits, followed by an open discussion on 
 the value of networking, including online networking (Ecademy, Linked 
 In, Twitter, etc.) in the marketing mix, and how to do it effectively.
 COST: £6 on the door - non-Members welcome\nEcademy Members CLICK HER
 E TO BOOK Non-members please email David Nunn nunn_d@hotmail.com\nMAP\
 nVENUE\nThere is limited parking in The Ship's own car park - free on-
 steet parking after 6pm\n----------------------\nEcademy is the world'
 s first online business and social networking site (pre-dating Faceboo
 k, LinkedIn etc by several years) and has ove 500,000 Members worldwid
 e.\n Ecademy encourages Members to meet locally wherever possible and 
 the Weybridge Ecademy group 0rgnansed by NiS Members David Nunn and Da
 vid Shaw has over 200 Members and meets on the last Monday evening of 
 each month with a presentation from an expert guest speaker.\n Visiti
  the Weybridge Ecademy home page here\n\nFor more information visit ht
 tps://networkinginsurrey.co.uk/events/ecademy-evening-weybridge-7
DTSTART;TZID=Europe/London:20110531T193000
DTEND;TZID=Europe/London:20110531T223000
CATEGORIES:evening, weybridge
LOCATION:Rear Meeting Room, Best Western Ship Hotel
WEBSITE:http://www.ecademy.com/module.php?mod=meeting&op=getgeo&mid=36
 493
URL:http://www.ecademy.com/module.php?mod=meeting&op=getgeo&mid=36493
CONTACT:+44 (0)7946 458748
ORGANIZER;CN="David Nunn":https://networkinginsurrey.co.uk/profile/Dav
 idNunn
ATTACH;FMTTYPE="image/jpeg":http://storage.ning.com/topology/rest/1.0/
 file/get/2591386062?profile=original
ATTENDEE;ROLE=REQ-PARTICIPANT;PARTSTAT=ACCEPTED;RSVP=TRUE;CN="David Nu
 nn":https://networkinginsurrey.co.uk/profile/DavidNunn
END:VEVENT
END:VCALENDAR
