BEGIN:VCALENDAR
PRODID:NingEventWidget-v1
VERSION:2.0
METHOD:PUBLISH
BEGIN:VTIMEZONE
TZID:Europe/London
X-LIC-LOCATION:Europe/London
BEGIN:DAYLIGHT
TZOFFSETFROM:+0000
TZOFFSETTO:+0100
TZNAME:BST
DTSTART:19700329T010000
RRULE:FREQ=YEARLY;BYMONTH=3;BYDAY=-1SU
END:DAYLIGHT
BEGIN:STANDARD
TZOFFSETFROM:+0100
TZOFFSETTO:+0000
TZNAME:GMT
DTSTART:19701025T020000
RRULE:FREQ=YEARLY;BYMONTH=10;BYDAY=-1SU
END:STANDARD
END:VTIMEZONE
BEGIN:VEVENT
UID:4626108:Event:7802
DTSTAMP:20260423T135241Z
SUMMARY:Ecademy Evening, Weybridge
DESCRIPTION: Join John Turner of Intelligent Communication at The Shi
 p\nAt Weybridge Ecademy on the last day of the month our Special Guest
  Speaker will be John Turner of Intelligent Communication in Cobham. 
 John is an experienced trainer/facilitator, executive coach and an NL
 P Master Practitioner. He can cure phobias in record time and is passi
 onate about personal growth and development. He has a wide repertoire 
 of courses and can help you with effective team development.An Introdu
 ction to Cultural IntelligenceMore and more these days, there has been
  a huge increase in the need for cross cultural business relationships
 . Take the current phenominal growth in China, for example. Many peopl
 e are therefore wondering how they should effectively handle themselve
 s during and whilst building such relationships in order to be success
 ful.John will try cover as many of the following as possible:1. An opp
 ortunity to self assess yourself on your current level of cultural int
 elligence using a test devised by the Harvard Business School\n2. Bein
 g prepared for a cross-cultural interview3. Consideration of common d
 ilemmas & misunderstandings in cross-cultural interviews4. The three s
 ources of cultural intelligence5. Cultural intelligence profiles6. Ste
 ps to cultivate your cultural intelligence 7. Time to examine your own
  cultural conditioning8. Three actions you can take to review your exp
 eriences with other cultures9. Three practical rules to ensure better 
 cross-cultural communication10 Ten guidelines to make yourself underst
 andable to people who are not completely familiar with your culture & 
 language.\nJohn will be leaving plenty of take home material for us to
  use.\nWe look forward to seeing you all there.Warmest regards,David 
 Nunn\nDavid Shaw\nCOST: £6 per person - Members of Ecademy and non-Me
 mbers all welcome\nEcademy Members CLICK HERE TO BOOK Non-members plea
 se email David Nunn nunn_d@hotmail.com\nMAP\nVENUE\nThere is limited p
 arking in The Ship's own car park - free on-steet parking after 6pm\n-
 ---------------------\nEcademy is the world's first online business an
 d social networking site (pre-dating Facebook, LinkedIn etc by several
  years) and has ove 500,000 Members worldwide.\n Ecademy encourages Me
 mbers to meet locally wherever possible and the Weybridge Ecademy grou
 p 0rgnansed by NiS Members David Nunn and David Shaw has over 200 Memb
 ers and meets on the last Monday evening of each month with a presenta
 tion from an expert guest speaker.\n\nFor more information visit https
 ://networkinginsurrey.co.uk/events/ecademy-evening-weybridge-6
DTSTART;TZID=Europe/London:20110228T193000
DTEND;TZID=Europe/London:20110228T223000
CATEGORIES:evening, weybridge, ecademy
LOCATION:Rear Meeting Room, The Ship Hotel KT13 8BQ
WEBSITE:http://www.ecademy.com/module.php?mod=meeting&op=getgeo&mid=36
 008
URL:http://www.ecademy.com/module.php?mod=meeting&op=getgeo&mid=36008
CONTACT:+44(0)7946 458748
ORGANIZER;CN="David Nunn":https://networkinginsurrey.co.uk/profile/Dav
 idNunn
ATTACH;FMTTYPE="image/jpeg":http://storage.ning.com/topology/rest/1.0/
 file/get/2591386062?profile=original
ATTENDEE;ROLE=REQ-PARTICIPANT;PARTSTAT=ACCEPTED;RSVP=TRUE;CN="Nigel De
 venish":https://networkinginsurrey.co.uk/profile/NigelDevenish
ATTENDEE;ROLE=REQ-PARTICIPANT;PARTSTAT=ACCEPTED;RSVP=TRUE;CN="David Nu
 nn":https://networkinginsurrey.co.uk/profile/DavidNunn
END:VEVENT
END:VCALENDAR
