BEGIN:VCALENDAR
PRODID:NingEventWidget-v1
VERSION:2.0
METHOD:PUBLISH
BEGIN:VTIMEZONE
TZID:Europe/London
X-LIC-LOCATION:Europe/London
BEGIN:DAYLIGHT
TZOFFSETFROM:+0000
TZOFFSETTO:+0100
TZNAME:BST
DTSTART:19700329T010000
RRULE:FREQ=YEARLY;BYMONTH=3;BYDAY=-1SU
END:DAYLIGHT
BEGIN:STANDARD
TZOFFSETFROM:+0100
TZOFFSETTO:+0000
TZNAME:GMT
DTSTART:19701025T020000
RRULE:FREQ=YEARLY;BYMONTH=10;BYDAY=-1SU
END:STANDARD
END:VTIMEZONE
BEGIN:VEVENT
UID:4626108:Event:4141
DTSTAMP:20260425T134554Z
SUMMARY:Ecademy Evening, Weybridge
DESCRIPTION:Ecademy Evening, Weybridge\n\nThis month we are delighted 
 to announce that Andy Szebeni of A&P Training will be our Guest Speake
 r. Andy's topic fror tonight's event will be: Win More Clients by Dist
 inguishing Yourself from the Crowd This session will focus on helping 
 you distinguish yourself from the crowd and win more clients. Your Uni
 que Selling Points mean that customers can choose you and only your co
 mpany.\nA short session on theory, examples and process will be follow
 ed by delegates pinning down, refining and using their own USPs in the
 ir businesses.\n\n\nAndy Szebeni is director of A&P Sales Improvement 
 and his company trains and consults on sales and customer service. Cli
 ents include Blue Circle Cement, British Car Parks, Andertons Property
  Management, Ealing Council and Ugg Boots maker Celtic Sheepskin. His 
 high energy and light-hearted style is used to deliver contemporary an
 d challenging ideas and skills in modern sales and marketing.\nCOST: Â
 £6 per person - Members of Easemy and non-Members all welcome\nBOOK HE
 RE:\nMAP\nVENUE\nThere is limited parking in The Ship's own car park -
  free on-steet parking after 6pm\n----------------------\nEcademy is t
 he world's first online business and social networking site (pre-datin
 g Facebook, LinkedIn etc by several years) and has ove 500,000 Members
  worldwide.\n Ecademy encourages Members to meet locally wherever poss
 ible and the Weybridge Ecademy group 0rgnansed by NiS Members David Nu
 nn and David Shaw has over 200 Members and meets on the last Monday ev
 ening of each month with a presentation from an expert guest speaker.\
 n\n\nFor more information visit https://networkinginsurrey.co.uk/event
 s/ecademy-evening-weybridge-5
DTSTART;TZID=Europe/London:20100927T190000
DTEND;TZID=Europe/London:20100927T220000
CATEGORIES:evening, weybridge, ecademy, business_networking_surrey
LOCATION:Rear Meeting Room, The Ship Hotel, Weybridge KT13 8BQ
WEBSITE:
URL:
CONTACT:
ORGANIZER:David Nunn
ATTACH;FMTTYPE="image/jpeg":http://storage.ning.com/topology/rest/1.0/
 file/get/2591386062?profile=original
ATTENDEE;ROLE=REQ-PARTICIPANT;PARTSTAT=ACCEPTED;RSVP=TRUE;CN="Derek Wi
 lliamson":https://networkinginsurrey.co.uk/profile/DerekWilliamson
ATTENDEE;ROLE=REQ-PARTICIPANT;PARTSTAT=ACCEPTED;RSVP=TRUE;CN="Keith Gr
 over, NiS Founder":https://networkinginsurrey.co.uk/profile/KeithGrove
 r
END:VEVENT
END:VCALENDAR
