BEGIN:VCALENDAR
PRODID:NingEventWidget-v1
VERSION:2.0
METHOD:PUBLISH
BEGIN:VTIMEZONE
TZID:Europe/London
X-LIC-LOCATION:Europe/London
BEGIN:DAYLIGHT
TZOFFSETFROM:+0000
TZOFFSETTO:+0100
TZNAME:BST
DTSTART:19700329T010000
RRULE:FREQ=YEARLY;BYMONTH=3;BYDAY=-1SU
END:DAYLIGHT
BEGIN:STANDARD
TZOFFSETFROM:+0100
TZOFFSETTO:+0000
TZNAME:GMT
DTSTART:19701025T020000
RRULE:FREQ=YEARLY;BYMONTH=10;BYDAY=-1SU
END:STANDARD
END:VTIMEZONE
BEGIN:VEVENT
UID:4626108:Event:1312
DTSTAMP:20260425T214631Z
SUMMARY:Ecademy Evening, Weybridge
DESCRIPTION:\"How to Increase Your Business by Putting Words into Acti
 on\" with Sue Geeves of Your Voice Your Words.\n\nDoes your business n
 eed a visit to the Doctors? In the current recession, many businesses 
 big and small are suffering from, typically:\n• Insufficient clients
 \n• Not enough profit or low turnover\n• Products and/or services 
 that are not in tune with clients' needs\nIf your business is 'under t
 he weather', are you also suffering from 'communication procrastinatio
 n'? It's a common ailment that holds organisations back from moving fo
 rwards whilst their managers prevaricate about needed actions and keep
  waiting for tomorrow to come. Well, instead of visiting the Doctors, 
 come along to Sue's presentation at Weybridge Ecademy on Monday 29th M
 arch. Do you have a business plan, marketing plan etc. What about a co
 mmunication plan? What is a communication plan? It's all about you and
  how you support your business.\n• How to create a successful messag
 e to attract clients\n• Creating a buzz about your business\n• Tak
 ing action now\nWe know this will be a very popular event and we look 
 forward to seeing you all there.\n\nCOST: £5 for Members and Non-memb
 ers - all welcome (as long as you have registered, please!)\nBOOK HERE
 \nMAP\nDIRECTIONS\nThere is limited parking in The Ship's own car park
  (often tricky to negotiate when it's busy!) and on-street parking is 
 free in the evening.\n-------------------------------\nSue Geeves' pas
 sion for communication has enabled her to distil her many years of exp
 erience into her keynote speeches, seminars and coaching workshops. Sh
 e is a motivational speaker, trainer and coach and engages her audienc
 e by sharing her unique experiences and the challenges she has faced t
 o inspire individuals to create and build successful careers, business
 es and lives. Her clients have increased their profitability and effic
 iency as well as ensuring their personal lives are in control. This ex
 perience, supported by her drama background, has helped her ensure tha
 t any business she works with, whether large or small, has a winning e
 dge. Your Voice Your Words was established by Sue Geeves to help her c
 lients who are suffering from too much communication procrastination, 
 Your Voice Your Words has found the solutions to support them.\n\nFor 
 more information visit https://networkinginsurrey.co.uk/events/ecademy
 -evening-weybridge-1
DTSTART;TZID=Europe/London:20100329T193000
DTEND;TZID=Europe/London:20100329T223000
CATEGORIES:evening, weybridge, ecademy
LOCATION:The Ship Hotel, Weybridge KT13 8BQ
WEBSITE:http://www.ecademy.com/module.php?mod=meeting&mid=32544
URL:http://www.ecademy.com/module.php?mod=meeting&mid=32544
CONTACT:07946 458748 David Nunn
ORGANIZER:David Nunn & David Shaw
ATTACH;FMTTYPE="image/jpeg":http://storage.ning.com/topology/rest/1.0/
 file/get/2591377800?profile=original
ATTENDEE;ROLE=REQ-PARTICIPANT;PARTSTAT=ACCEPTED;RSVP=TRUE;CN="Caroline
  Walsh":https://networkinginsurrey.co.uk/profile/CarolineWalsh
ATTENDEE;ROLE=REQ-PARTICIPANT;PARTSTAT=ACCEPTED;RSVP=TRUE;CN="Keith Gr
 over, NiS Founder":https://networkinginsurrey.co.uk/profile/KeithGrove
 r
END:VEVENT
END:VCALENDAR
