BEGIN:VCALENDAR
PRODID:NingEventWidget-v1
VERSION:2.0
METHOD:PUBLISH
BEGIN:VTIMEZONE
TZID:Europe/London
X-LIC-LOCATION:Europe/London
BEGIN:DAYLIGHT
TZOFFSETFROM:+0000
TZOFFSETTO:+0100
TZNAME:BST
DTSTART:19700329T010000
RRULE:FREQ=YEARLY;BYMONTH=3;BYDAY=-1SU
END:DAYLIGHT
BEGIN:STANDARD
TZOFFSETFROM:+0100
TZOFFSETTO:+0000
TZNAME:GMT
DTSTART:19701025T020000
RRULE:FREQ=YEARLY;BYMONTH=10;BYDAY=-1SU
END:STANDARD
END:VTIMEZONE
BEGIN:VEVENT
UID:4626108:Event:7328
DTSTAMP:20260424T005627Z
SUMMARY:Ecademy Evening, Croydon with Chris Day
DESCRIPTION:Croydon Ecademy at Chefs Restaurant\n\n \"Turning your kn
 owledge into income\" with Chris Day\nWe spend a lifetime making depos
 its into our bank of knowledge - and there isn't a better time than n
 ow to make a withdrawal!  Words are the building blocks of all knowle
 dge based products. What do you know that could be earning you an extr
 a income right now?Chris Day is a writer and journalist and has been i
 n Croydon for over twenty years. He writes a regular column in Make Mo
 ney magazine.In 2000 he founded Filament Publishing Ltd which speciali
 ses in helping specialist authors profitably get to market. On the bas
 is that no author ever spent all those hours of writing for the pleasu
 re of having boxes of books getting damp in their garage, Chris specia
 lises in training the skill of niche book marketing.\nHis own book \"T
 urning you knowledge into income\" was written to help him spend less 
 time explaining the subject to new authors over the phone!In 2010 Chri
 s also formed AuthorCraft.co.uk, an online creative community for auth
 ors and writers, to privide them with a free source of information and
  support, and also to bring them together with like minds and also edi
 tors, designers, illustrators and other supplier members.\nCOST: £10 
 to cover the cost of room hire and the finger buffet. Contact Huw WIll
 iams for discount offers for new members and guests.\nCLICK HERE to r
 egister and pay by PayPal\nor send a cheque in advance to Huw Williams
 , 35 Russell Hill Road, Purley, CR8 2LF\nMAP\nVENUE \nLocated at the 
 Croydon College with entrance on Park Lane, Chefs consists of a Restau
 rant, a main kitchen and a Coffee Bar\n \n\nFor more information visi
 t https://networkinginsurrey.co.uk/events/ecademy-evening-croydon-with
DTSTART;TZID=Europe/London:20110217T183000
DTEND;TZID=Europe/London:20110217T210000
CATEGORIES:business_networking_surrey, evening, ecademy
LOCATION:Chefs Restaurant, Croydon College CR9 1DX
WEBSITE:http://www.ecademy.com/module.php?mod=meeting&op=getgeo&mid=35
 544
URL:http://www.ecademy.com/module.php?mod=meeting&op=getgeo&mid=35544
CONTACT:
ORGANIZER;CN="Huw WIlliams":https://networkinginsurrey.co.uk/profile/H
 uwWIlliams
ATTACH;FMTTYPE="image/jpeg":http://storage.ning.com/topology/rest/1.0/
 file/get/2591391183?profile=original
ATTENDEE;ROLE=REQ-PARTICIPANT;PARTSTAT=ACCEPTED;RSVP=TRUE;CN="Wendy Ag
 er":https://networkinginsurrey.co.uk/profile/WendyAger
ATTENDEE;ROLE=REQ-PARTICIPANT;PARTSTAT=ACCEPTED;RSVP=TRUE;CN="Huw WIll
 iams":https://networkinginsurrey.co.uk/profile/HuwWIlliams
END:VEVENT
END:VCALENDAR
