BEGIN:VCALENDAR
PRODID:NingEventWidget-v1
VERSION:2.0
METHOD:PUBLISH
BEGIN:VTIMEZONE
TZID:Europe/London
X-LIC-LOCATION:Europe/London
BEGIN:DAYLIGHT
TZOFFSETFROM:+0000
TZOFFSETTO:+0100
TZNAME:BST
DTSTART:19700329T010000
RRULE:FREQ=YEARLY;BYMONTH=3;BYDAY=-1SU
END:DAYLIGHT
BEGIN:STANDARD
TZOFFSETFROM:+0100
TZOFFSETTO:+0000
TZNAME:GMT
DTSTART:19701025T020000
RRULE:FREQ=YEARLY;BYMONTH=10;BYDAY=-1SU
END:STANDARD
END:VTIMEZONE
BEGIN:VEVENT
UID:4626108:Event:32702
DTSTAMP:20260421T010857Z
SUMMARY:MEMBER PROMO: Workshop Day for Women, Woking
DESCRIPTION:Eat, Breathe, Love Workshop for Women at Gorse Hill\n\nEsp
 ecially designed for women who feel they may be ‘running on empty’
 , perhaps feel overwhelmed by the demands of a busy life,reach for cup
 s of coffee/tea or chocolate just to keep going. Struggle through the
  day, often tired and irritable?......\n Sound familiar?\nWell you ar
 e not alone. In a recent Good Housekeeping survey over 50% of women sa
 id they had consulted their GP about either stress or anxiety. \nThis
  workshop in an elegant country house hotel has been designed for you!
  You can take back control of your life and regain your natural ener
 gy and enthusiasm .We will show you how....with clear, practical advi
 ce, tips and inspiration to get you started.\nThe day will cover 3 key
  areas:\nThe essentials of how to EAT well to nourish and nurture your
  body\nBREATHing techniques to help you find your inner calm\nHow and 
 why you need to LOVE yourself\nEssential for all women of any age!\nTh
 e workshop will be given by three local qualified, experienced therapi
 sts with expert knowledge:\nRhona Byrne, Lifestyle coach (Rhona Byrne 
 Coaching)\nJanet Ledsham, Nutritional Therapist (Janet Ledsham Nutr
 ition)\nJudith Davis, Breath Practitioner (Spinal Breath)\nCOST: £97 
 including lunch\n*** Early Bird Offer - before 15 October - £67  **
 ** \nPLEASE CLICK HERE TO BOOK\nFor more details please visit  www.e
 atbreathelove.com\nor call Janet on 01483 828497/474999\nMAP There i
 s free parking at the venue\nDIRECTIONS\n \n\nFor more information vi
 sit https://networkinginsurrey.co.uk/events/eat-breathe-love-workshop-
 for-women
DTSTART;TZID=Europe/London:20111112T100000
DTEND;TZID=Europe/London:20111112T170000
CATEGORIES:all_day, workshop, women, woking
LOCATION:Gorse Hill GU22 0QH
WEBSITE:
URL:
CONTACT:Janet  01483 828497/474999
ORGANIZER:Janet Ledsham, Judith Davis, Rhona Byrne
ATTACH;FMTTYPE="image/jpeg":http://storage.ning.com/topology/rest/1.0/
 file/get/2544398104?profile=original
ATTENDEE;ROLE=REQ-PARTICIPANT;PARTSTAT=ACCEPTED;RSVP=TRUE;CN="Judith D
 avis":https://networkinginsurrey.co.uk/profile/Judithdavis
ATTENDEE;ROLE=REQ-PARTICIPANT;PARTSTAT=ACCEPTED;RSVP=TRUE;CN="Janet Le
 dsham":https://networkinginsurrey.co.uk/profile/JanetLedsham
END:VEVENT
END:VCALENDAR
