BEGIN:VCALENDAR
PRODID:NingEventWidget-v1
VERSION:2.0
METHOD:PUBLISH
BEGIN:VTIMEZONE
TZID:Europe/London
X-LIC-LOCATION:Europe/London
BEGIN:DAYLIGHT
TZOFFSETFROM:+0000
TZOFFSETTO:+0100
TZNAME:BST
DTSTART:19700329T010000
RRULE:FREQ=YEARLY;BYMONTH=3;BYDAY=-1SU
END:DAYLIGHT
BEGIN:STANDARD
TZOFFSETFROM:+0100
TZOFFSETTO:+0000
TZNAME:GMT
DTSTART:19701025T020000
RRULE:FREQ=YEARLY;BYMONTH=10;BYDAY=-1SU
END:STANDARD
END:VTIMEZONE
BEGIN:VEVENT
UID:4626108:Event:75590
DTSTAMP:20260426T050300Z
SUMMARY:Dorking Rugby Club Networking
DESCRIPTION:\nOfficially the Best Networking Group in Surrey!\nSPECIAL
  CHRISTMASÂ NETWORKING\nThis month there's networking with a twist. It
  will guarantee you get to know everyone even better!\nWe also have Wa
 yne Trice dazzling us with his amazing magic.\nCome and join in the fu
 n and experience our award winning format. Â It goes like this:Â \nTHE
  FORWARDS - Choose your welcome drink from the bar and start chatting\
 nTHE SCRUM - This is where it gets interesting! You will join three di
 fferent tables of 4 people and have 5 minutes to talk about you, your 
 business, how you help people and most importantly who you'd like to b
 e introduced to.\nTHE BACKS - This is when Sam's mouthwatering canapÃ©
 s arrive. The bar is open so grab a drink and carry on networking.\n\n
 WIN : WIN - Every penny we raise at this networking event goes to Dork
 ing Rugby Club.\nDorking RFC is a community rugby club. They run teams
  from under 7 through to under 21 and then four senior sides. In 2009,
  they became a registered charity (the first rugby club in England to 
 do so). On the field they are committed to amateur principles with a â
 €˜one club ethosâ€™ which aims to develop their junior players in due 
 course to represent our First XV or to play the game at a senior level
  elsewhere.\nThe number of tickets available is restricted to 35, so p
 lease don't delay in booking your place.\nEvent Organisers:Â Nicola Ma
 cdonaldÂ of Attractive Marketing and Chris WebbÂ of Strategic Financia
 l Portfolios are both established local businesses, sponsors and membe
 rs of Dorking Rugby Club. Â We wish to bring together local businesses
  and members of the club for the benefit of the community.\nFuture mee
 tings will be held on the second Thursday of every month.Â Â \nSo if y
 ou can't make this one put a date in your diary for the next one. Â Sa
 me time; same place. Â See you there.Â \nCOST: Â£15.50Â \nBOOKING: Ple
 ase CLICK HEREÂ to book your place\nMAP\nPlenty of free parking\n\nFor
  more information visit https://networkinginsurrey.co.uk/events/dorkin
 g-rugby-club-networking
DTSTART;TZID=Europe/London:20151210T180000
DTEND;TZID=Europe/London:20151210T203000
CATEGORIES:networking, evening
LOCATION:Dorking Rugby Club, RH3 7LZ
WEBSITE:http://www.venuehiresurrey.co.uk/about/
URL:http://www.venuehiresurrey.co.uk/about/
CONTACT:07565 382803
ORGANIZER;CN="Nicola Macdonald":https://networkinginsurrey.co.uk/profi
 le/NicolaMacdonald
ATTACH;FMTTYPE="image/jpeg":http://storage.ning.com/topology/rest/1.0/
 file/get/2591448268?profile=original
ATTENDEE;ROLE=REQ-PARTICIPANT;PARTSTAT=ACCEPTED;RSVP=TRUE;CN="Nicola M
 acdonald":https://networkinginsurrey.co.uk/profile/NicolaMacdonald
END:VEVENT
END:VCALENDAR
